BEGIN:VCALENDAR
VERSION:2.0
PRODID:-//Escoteiros SP - ECPv6.15.20//NONSGML v1.0//EN
CALSCALE:GREGORIAN
METHOD:PUBLISH
X-WR-CALNAME:Escoteiros SP
X-ORIGINAL-URL:https://www.escoteirossp.org.br
X-WR-CALDESC:Eventos para Escoteiros SP
REFRESH-INTERVAL;VALUE=DURATION:PT1H
X-Robots-Tag:noindex
X-PUBLISHED-TTL:PT1H
BEGIN:VTIMEZONE
TZID:America/Sao_Paulo
BEGIN:STANDARD
TZOFFSETFROM:-0300
TZOFFSETTO:-0300
TZNAME:-03
DTSTART:20240101T000000
END:STANDARD
END:VTIMEZONE
BEGIN:VEVENT
DTSTART;VALUE=DATE:20250913
DTEND;VALUE=DATE:20250915
DTSTAMP:20260423T162356
CREATED:20250729T160811Z
LAST-MODIFIED:20250731T203854Z
UID:48109-1757721600-1757894399@www.escoteirossp.org.br
SUMMARY:Encontro de Capacitação de Formadores - 2º semestre/2025
DESCRIPTION:Promovido pelo Nível Regional\, tem o objetivo de apresentar ferramentas sobre as dinâmicas básicas da atuação como formador\, tais como a aplicação de unidades didáticas e a conduta na tarefa. \nOnde\nEscola Estadual Miguel Vicente Cury \nRua São Cirílo 354 Vl – Conj. Hab. Padre Anchieta – Campinas\nhttps://maps.app.goo.gl/17PaPQa2ZqC8PSqe7 \n Quando\n13 e 14 de setembro de 2025 \nQuem pode participar \nEm atendimento à Regra 133 do P.O.R. podem participar Escotistas e Dirigentes que atendam aos seguintes requisitos: \n\nSejam indicados por seus Comissário Distritais;\nPossuir as competências necessárias para atuar como formador (IM ou especialista);\nEstar em dia com seu registro junto à UEB e com suas obrigações administrativas e financeiras junto à UEL; e\nTer recomendação de seu Assessor Pessoal de Formação.\n\nLimite de vagas \n40 vagas\, sendo 35 para atender às indicações do Distritos e 5 para indicações estratégicas da Diretoria Regional. \nCada Comissário poderá indicar até 3 nomes de voluntários que estejam registrados em UEL que pertençam ao seu Distrito Escoteiro e que atendam os pré-requisitos. \nA Diretoria Regional\, no uso de suas atribuições\, vai definir os participantes baseado nos seguintes pré requisitos: \n\nTempo de IM;\nTempo de atuação no Distrito;\nAvaliação da quantidade de participantes do Distrito nos últimos ECFs\, valorizando os Distritos não contemplados em edições anteriores;\nSe o associado já foi indicado e não participou.\n\nQuanto\nR$ 180\,00 (cento e oitenta reais).\nInclui: alimentação e material para as Unidades Didáticas \nEncontro de Capacitação de Formadores – 2º semestre/2025
URL:https://www.escoteirossp.org.br/evento/encontro-de-capacitacao-de-formadores-2o-semestre-2025/
LOCATION:Escola Estadual Miguel Vicente Cury\, Rua São Cirílo 354 Vl - Conj. Hab. Padre Anchieta\, Campinas\, São Paulo\, 13068-413\, Brasil
ATTACH;FMTTYPE=image/png:https://www.escoteirossp.org.br/wp/wp-content/uploads/2025/07/ECF-01.png
ORGANIZER;CN="Diretoria Regional de M%C3%A9todos Educativos - Gest%C3%A3o de Adultos":MAILTO:voluntariado.sp@escoteiros.org.br
END:VEVENT
END:VCALENDAR