BEGIN:VCALENDAR
VERSION:2.0
PRODID:-//Escoteiros SP - ECPv6.15.20//NONSGML v1.0//EN
CALSCALE:GREGORIAN
METHOD:PUBLISH
X-WR-CALNAME:Escoteiros SP
X-ORIGINAL-URL:https://www.escoteirossp.org.br
X-WR-CALDESC:Eventos para Escoteiros SP
REFRESH-INTERVAL;VALUE=DURATION:PT1H
X-Robots-Tag:noindex
X-PUBLISHED-TTL:PT1H
BEGIN:VTIMEZONE
TZID:America/Sao_Paulo
BEGIN:STANDARD
TZOFFSETFROM:-0300
TZOFFSETTO:-0300
TZNAME:-03
DTSTART:20200101T000000
END:STANDARD
END:VTIMEZONE
BEGIN:VEVENT
DTSTART;VALUE=DATE:20210503
DTEND;VALUE=DATE:20210626
DTSTAMP:20260423T162307
CREATED:20210409T180406Z
LAST-MODIFIED:20210409T180406Z
UID:34805-1620000000-1624665599@www.escoteirossp.org.br
SUMMARY:Encontro de Capacitação de Formadores EAD – Turma 6
DESCRIPTION:Em virtude da suspensão das iniciativas formativas presenciais\, por conta da pandemia do COVID-19\, conforme Ofício: 017-2020 DR \, adaptamos o Encontro de Capacitação de Formadores (ECF) para ser realizado totalmente no formato EAD! \nO ECF\, promovido pelo nível Regional\, tem o objetivo de apresentar ferramentas sobre as dinâmicas básicas da atuação como formador\, tais como a aplicação de unidades didáticas e a conduta na tarefa. \nOs Encontros de Capacitação de Formadores que serão realizados\, atendendo aos objetivos do Plano Estratégico Regional 1.4.1\, 1.4.2 e 1.4.3\, são destinados à atualização de todos os formadores da Região Escoteira de São Paulo em relação às novas diretrizes trazidas pela Política Nacional de Adultos no Movimento Escoteiro. \n? Quem pode participar?\nFormadores (as) da Região Escoteira de São Paulo\, com registro escoteiro válido\, que já tenham cursado o Seminário Regional Preparatório de Formadores\, Curso de Formadores nível 1 (CF-1) e/ou Curso de Formadores nível 2 (CF-2)\, ou equivalentes. \n? Quando? \nEntre os dias  03/05/2021 e 27/06/2021  . \nTurma 6 \n? Onde?\nEnsino a Distância (EAD)\, online. \nBasta que tenha um computador\, tablet ou celular com conexão à internet. \nAs chaves de acesso para a plataforma EAD onde será realizada a iniciativa formativa serão enviadas aos emails dos inscritos. \n? Quanto?\nGratuito. \n? Como se inscrever?\nTurma 6 \nExclusivamente via MEU PAXTU\, na área de Eventos\, das 18h do dia 09 de abril até às 23h59 do dia 19 de abril de 2021\, ou até serem preenchidas todas as vagas. \nInscrições sujeitas a triagem para conferência de que o inscrito atende os requisitos acima estabelecidos para inscrição. A inscrição só estará confirmada após aprovação na triagem. \nConfira se o seu e-mail de contato está atualizado e correto na sua ficha de cadastro no Paxtu\, pois todas as instruções da capacitação serão enviadas para esse e-mail. Se necessário\, faça os devidos ajustes em seu cadastro antes de realizar sua inscrição. \nLimite de 40 (quarenta) vagas POR TURMA \n? Conteúdo Programático \nSó será emitido certificado de participação para aqueles que concluírem 80% do conteúdo proposto. \n? Diretor das iniciativas formativas \nTurma 6 – Rudner Lauterjung Queiroz\nRudner iniciou sua atuação na Formação em 2011 como especialista no CATAr de Adultos de SP\, já tendo atuado também como Diretor de Cursos em SP e PA\, ressaltando sua participação como diretor de Cursos da linha Escotista\, no Ramo Sênior\, já tendo dirigido o atual Curso Intermediário Escotista Ramo Sênior\, já segundo as PNAME\, além de ter dirigido cursos técnicos em Técnicas de Campo\, CATAr’es\, CTRs e outros\, incluindo o primeiro Curso Técnico do Ramo Sênior após o estabelecimento do Centro Escoteiro Ipanema. \nDiretor Presidente do 170º GE do Ar Santos Dumont\, é coordenador nacional dos escoteiros do ar.\nFora do escotismo é mestre em Engenharia Aeronáutica pelo ITA\, Instituto Tecnológico de Aeronáutica\, e atua como pesquisador em Astrofísica no INPE\, Instituto Nacional de Pesquisas Espaciais. \n? Mais Informações\nEscritório Regional de São Paulo dos Escoteiros do Brasil – Eventos\nE-mail: eventos@escoteirossp.org.br \n\nEncontro de Capacitação de Formadores EAD – Turma 6
URL:https://www.escoteirossp.org.br/evento/encontro-de-capacitacao-de-formadores-ead-turma-6/
LOCATION:Online
CATEGORIES:EAD,Formação
ATTACH;FMTTYPE=image/jpeg:https://www.escoteirossp.org.br/wp/wp-content/uploads/2019/06/IMG_2387.jpg
END:VEVENT
END:VCALENDAR