BEGIN:VCALENDAR
VERSION:2.0
PRODID:-//Escoteiros SP - ECPv6.15.20//NONSGML v1.0//EN
CALSCALE:GREGORIAN
METHOD:PUBLISH
X-WR-CALNAME:Escoteiros SP
X-ORIGINAL-URL:https://www.escoteirossp.org.br
X-WR-CALDESC:Eventos para Escoteiros SP
REFRESH-INTERVAL;VALUE=DURATION:PT1H
X-Robots-Tag:noindex
X-PUBLISHED-TTL:PT1H
BEGIN:VTIMEZONE
TZID:America/Sao_Paulo
BEGIN:STANDARD
TZOFFSETFROM:-0300
TZOFFSETTO:-0300
TZNAME:-03
DTSTART:20240101T000000
END:STANDARD
END:VTIMEZONE
BEGIN:VEVENT
DTSTART;TZID=America/Sao_Paulo:20250726T080000
DTEND;TZID=America/Sao_Paulo:20250726T140000
DTSTAMP:20260423T160236
CREATED:20250708T183630Z
LAST-MODIFIED:20250724T191424Z
UID:47838-1753516800-1753538400@www.escoteirossp.org.br
SUMMARY:Encontro de Coordenadores Distritais 2025
DESCRIPTION:O Encontro de Coordenadores Distritais tem como objetivo ouvir Coordenadores e Comissários Distritais e provocar a reflexão acerca do fortalecimento dos Distritos Escoteiros e\, consequentemente\, da Região Escoteira de São Paulo. É um momento oportuno para envolvimento\, confraternização e troca de experiências no cotidiano de seus Distritos. \nAtualização do programa educativo\nConforme programação regional\, serão disponibilizadas oficinas de atualização do programa educativo para todos os ramos com a atualização do POR. Disponibilizaremos uma sessão para o ramo filhotes. O Distrito deverá enviar um(a) representante exclusivo para este tema. \nQuando\nSábado\, 26 de julho de 2025.\nAbertura (prevista) às 9h e encerramento (previsto) às 14h; credenciamento a partir das 8h.\n \nOnde\nFaculdade Anhanguera – Leme\nRua Waldemar Silenci\, 340 – Cidade Jardim Leme – SP\, 13614-370\nhttps://maps.app.goo.gl/ybay9Vn17dxpYfe69 \nQuem pode participar\n• Coordenadores Distritais de Ramos Lobinho\, Escoteiro\, Sênior e Pioneiro;\n• Coordenadores Distritais de Gestão de Adultos;\n• Coordenadores Distritais das Modalidades do Ar\, do Mar e Rádio Escotismo;\n• Coordenadores Distritais do Mundo Melhor \nNa impossibilidade de participação do Coordenador ou caso o Distrito não possua um Coordenador nomeado para a função\, pedimos que seja enviado um representante; o Comissário Distrital também pode participar representando um Coordenador. \nOs representantes devem ser indicados pelo Comissário através do formulário https://bit.ly/EncCoordDistrital2025\n \nConfira o boletim \nInforme sobre área comercial \nEncontro de Coordenadores Distritais 2025
URL:https://www.escoteirossp.org.br/evento/encontro-de-coordenadores-distritais-2025/
LOCATION:Faculdade Anhanguera – Leme\, Rua Waldemar Silenci\, 340 – Cidade Jardim Leme\, Leme\, São Paulo
CATEGORIES:Encontro
ATTACH;FMTTYPE=image/png:https://www.escoteirossp.org.br/wp/wp-content/uploads/2025/07/site_E.C.Distritais.png
ORGANIZER;CN="Diretoria Regional de M%C3%A9todos Educativos":MAILTO:metodos.sp@escoteiros.org.br
END:VEVENT
END:VCALENDAR