BEGIN:VCALENDAR
VERSION:2.0
PRODID:-//Escoteiros SP - ECPv6.15.20//NONSGML v1.0//EN
CALSCALE:GREGORIAN
METHOD:PUBLISH
X-WR-CALNAME:Escoteiros SP
X-ORIGINAL-URL:https://www.escoteirossp.org.br
X-WR-CALDESC:Eventos para Escoteiros SP
REFRESH-INTERVAL;VALUE=DURATION:PT1H
X-Robots-Tag:noindex
X-PUBLISHED-TTL:PT1H
BEGIN:VTIMEZONE
TZID:America/Sao_Paulo
BEGIN:STANDARD
TZOFFSETFROM:-0300
TZOFFSETTO:-0300
TZNAME:-03
DTSTART:20230101T000000
END:STANDARD
END:VTIMEZONE
BEGIN:VEVENT
DTSTART;TZID=America/Sao_Paulo:20240203T080000
DTEND;TZID=America/Sao_Paulo:20240203T150000
DTSTAMP:20260423T163507
CREATED:20231219T225503Z
LAST-MODIFIED:20231219T225503Z
UID:43375-1706947200-1706972400@www.escoteirossp.org.br
SUMMARY:Encontro de Coordenadores Distritais de Comunicação
DESCRIPTION:O objetivo do Encontro de Coordenadores Distritais de Comunicação é capacitar e realizar a troca de experiências entre os comunicadores dos distritos escoteiros da Região de São Paulo. \nOnde\nCentro de Atividades Professora Maria Braz ( SESI Campinas I Amoreiras )\nAvenida das Amoreiras\, Nº 450 – Bairro: Parque Italia – Campinas – S. P.\nhttps://maps.app.goo.gl/uPiPRwR8LcXbdkgs8 \nQuando\nDia 03 de fevereiro de 2024\nCheck-in: das 08h às 08h50 – Evento: das 9h às 15h\n \nQuem pode participar\nCoordenadores distritais de comunicação e/ou comissário. Na ausência de um coordenador da área fica sob responsabilidade do comissário distrital selecionar um representante que possua uma\, ou mais\, das características a seguir:\n– Pioneiro\, Escotista ou Dirigente que possua formação acadêmica em Comunicação\nSocial;\n– Possuir um bom relacionamento com as Unidades Escoteiras Locais de seu Distrito\nEscoteiro de Atuação;\n– Possuir vontade de disponibilidade de aprender e transmitir conhecimento e de trabalhar em sintonia com a Diretoria Regional de Comunicação. \nComo inscrever\nExclusivamente via Meu PAXTU\, na área de Eventos\, da 00h do 20 de dezembro de 2023 até às 23h59 do 28 de janeiro de 2024\, ou até serem preenchidas todas as vagas. \nConfira o boletim:\nBoletim – Encontro de Coordenadores Distritais de Comunicação \nEncontro de Coordenadores Distritais de Comunicação
URL:https://www.escoteirossp.org.br/evento/encontro-de-coordenadores-distritais-de-comunicacao/
LOCATION:Sesi Campinas\, Avenida das Amoreiras\, Nº 450 - Bairro: Parque Italia\, Campinas\, São Paulo\, 13036225
CATEGORIES:Encontro
ATTACH;FMTTYPE=image/png:https://www.escoteirossp.org.br/wp/wp-content/uploads/2023/12/bannersite_comunica-1.png
END:VEVENT
END:VCALENDAR