BEGIN:VCALENDAR
VERSION:2.0
PRODID:-//Escoteiros SP - ECPv6.15.20//NONSGML v1.0//EN
CALSCALE:GREGORIAN
METHOD:PUBLISH
X-WR-CALNAME:Escoteiros SP
X-ORIGINAL-URL:https://www.escoteirossp.org.br
X-WR-CALDESC:Eventos para Escoteiros SP
REFRESH-INTERVAL;VALUE=DURATION:PT1H
X-Robots-Tag:noindex
X-PUBLISHED-TTL:PT1H
BEGIN:VTIMEZONE
TZID:America/Sao_Paulo
BEGIN:STANDARD
TZOFFSETFROM:-0300
TZOFFSETTO:-0300
TZNAME:-03
DTSTART:20210101T000000
END:STANDARD
END:VTIMEZONE
BEGIN:VEVENT
DTSTART;TZID=America/Sao_Paulo:20220807T073000
DTEND;TZID=America/Sao_Paulo:20220807T140000
DTSTAMP:20260424T002709
CREATED:20220715T224553Z
LAST-MODIFIED:20220715T224553Z
UID:38964-1659857400-1659880800@www.escoteirossp.org.br
SUMMARY:Encontro de Coordenadores Distritais e Comissários
DESCRIPTION:O que é o evento?\nO Encontro Regional de Coordenadores tem como objetivo de ouvir os coordenadores e comissários\, e provocar nas coordenações a reflexão acerca do fortalecimento dos distritos escoteiros e consequentemente da Região Escoteira de São Paulo. É um momento oportuno para envolvimento\, confraternização\, troca de experiências dos coordenadores e comissários no cotidiano de seus distritos\, principalmente nesta retomada das atividades presenciais. \nQuando? \nDe 7 de agosto de 2022 \nAbertura prevista às 9h e encerramento previsto às 14h \nOnde? \nEscola de Educação Profissional Humanidade \nEndereço.: Rua Winston Churchil\, Nº 416  –  Bela Vista  –  Salto  –  SP \nLink para GPS.: https://goo.gl/maps/eZuKLbmYLxAAE5hdA \nQuem pode participar? \nComissários Distritais\, Coordenações Distritais (Ramos.: Lobinho\, Escoteiro\, Sênior e Pioneiro)\, Gestão de Adultos\, Coordenador Distrital da Modalidade do Ar\, do Mar e Radio Escotismo (caso o distrito não possua um coordenador\, se possível enviar um representante destas modalidades )\, com seu registro escoteiro valido na data do evento. \nComo se inscrever? \nExclusivamente via Meu PAXTU\, das 00h do 16 de julho de 2022 até às 23h59 do 26 de julho de 2022. \nQuanto? \nR$ 60\,00 ( Sessenta Reais )\, pago apenas no boleto ( este valor está incluso\, café da manhã\, coffee break\, caneca\, crachá e certificado online ) \nConfira todas as informações no Boletim Completo: Boletim \n  \nBoletim 1 \nEncontro de Coordenadores Distritais e Comissários
URL:https://www.escoteirossp.org.br/evento/encontro-de-coordenadores-distritais-e-comissarios/
LOCATION:Escola de Educação Profissional Humanidade\, Rua Winston Churchil\, Nº 416 - Bela Vista\, Salto\, São Paulo\, 13321-370\, Brasil
ATTACH;FMTTYPE=image/png:https://www.escoteirossp.org.br/wp/wp-content/uploads/2022/07/logo.png
END:VEVENT
END:VCALENDAR