BEGIN:VCALENDAR
VERSION:2.0
PRODID:-//Escoteiros SP - ECPv6.15.20//NONSGML v1.0//EN
CALSCALE:GREGORIAN
METHOD:PUBLISH
X-WR-CALNAME:Escoteiros SP
X-ORIGINAL-URL:https://www.escoteirossp.org.br
X-WR-CALDESC:Eventos para Escoteiros SP
REFRESH-INTERVAL;VALUE=DURATION:PT1H
X-Robots-Tag:noindex
X-PUBLISHED-TTL:PT1H
BEGIN:VTIMEZONE
TZID:America/Sao_Paulo
BEGIN:STANDARD
TZOFFSETFROM:-0300
TZOFFSETTO:-0300
TZNAME:-03
DTSTART:20200101T000000
END:STANDARD
END:VTIMEZONE
BEGIN:VEVENT
DTSTART;TZID=America/Sao_Paulo:20210710T090000
DTEND;TZID=America/Sao_Paulo:20210710T180000
DTSTAMP:20260423T155322
CREATED:20210129T173844Z
LAST-MODIFIED:20210611T205937Z
UID:33645-1625907600-1625940000@www.escoteirossp.org.br
SUMMARY:Encontro de Escotistas Profissionais de educação
DESCRIPTION:O que é o evento?\nUm evento da pasta de Suporte Educacional destinado a escotistas e dirigentes que atuam profissionalmente na educação formal em qualquer nível (pré-escolar\, fundamental\, médio e superior) com intuito de compartilhamento de experiências e formulação de estratégias para o aproveitamento dos conhecimentos em educação\, uma troca de experiências\, gerando uma relação sinergética e ativa entre a educação formal e informal. \nO porquê do evento?\nAtende ao previsto no objetivo do Plano Estratégico Regional 1.6.1. Fomentar a relevância institucional por meio do relacionamento com instituições de educação e formação e o ODS 4.2 – Educação de qualidade. \nQuando?\n10 de julho de 2021 (sábado)\nAbertura prevista às 09h e encerramento previsto às 18h. \nOnde?\nOn-line – Google Meet. \nQuem pode participar?\nEscotistas e dirigentes com registro escoteiro válido que atuam na educação formal. \nComo se inscrever?\nExclusivamente via Meu PAXTU\, na área de Eventos\, das 00h do 30 de janeiro de 2021 até às 23h59 do 11 de março de 2021\, ou até serem preenchidas todas as vagas. \nQuanto?\nEvento Gratuito. \n  \nBoletim \n  \nEncontro de Escotistas Profissionais de educação
URL:https://www.escoteirossp.org.br/evento/encontro-de-escotistas-profissionais-de-educacao/
LOCATION:Online
CATEGORIES:Encontro,Escotista
ATTACH;FMTTYPE=image/jpeg:https://www.escoteirossp.org.br/wp/wp-content/uploads/2021/01/WhatsApp-Image-2021-01-29-at-14.24.18-e1611941797657.jpeg
END:VEVENT
END:VCALENDAR