BEGIN:VCALENDAR
VERSION:2.0
PRODID:-//Escoteiros SP - ECPv6.15.20//NONSGML v1.0//EN
CALSCALE:GREGORIAN
METHOD:PUBLISH
X-WR-CALNAME:Escoteiros SP
X-ORIGINAL-URL:https://www.escoteirossp.org.br
X-WR-CALDESC:Eventos para Escoteiros SP
REFRESH-INTERVAL;VALUE=DURATION:PT1H
X-Robots-Tag:noindex
X-PUBLISHED-TTL:PT1H
BEGIN:VTIMEZONE
TZID:America/Sao_Paulo
BEGIN:STANDARD
TZOFFSETFROM:-0300
TZOFFSETTO:-0300
TZNAME:-03
DTSTART:20210101T000000
END:STANDARD
END:VTIMEZONE
BEGIN:VEVENT
DTSTART;TZID=America/Sao_Paulo:20221029T130000
DTEND;TZID=America/Sao_Paulo:20221029T180000
DTSTAMP:20260423T204722
CREATED:20221011T211720Z
LAST-MODIFIED:20221014T140901Z
UID:39911-1667048400-1667066400@www.escoteirossp.org.br
SUMMARY:Encontro Escoteiro de Profissionais de Educação
DESCRIPTION:O que é o evento? \nO propósito do evento é fomentar a rede de interação entre educadores escoteiros e educadores do ensino formal\, para a troca de experiências\, aproveitando conteúdos teóricos e práticos produzidos por ambos os lados. Dar maior visibilidade ao escotismo nos meios de educação formal\, gerando assim novas oportunidades para realização e participação em eventos nos dois universos. \nOnde? \nCentro Escoteiro Jaraguá (CEJ). \nQuando?  \n29 de outubro de 2022\, sábado\, das 13h às 18h. \nQuem pode participar?  \n\nEscotistas e Dirigentes que estejam em dia com seus registros associativos na União dos Escoteiros do Brasil\, em dia com suas obrigações administrativas e financeiras com a Unidade Escoteira Local; \nProfissionais de educação formal\, convidados por Escotistas ou Dirigentes que irão participar do evento.\n\nComo se inscrever? \n\nEscotistas e Dirigentes que sejam profissionais de educação\, exclusivamente pelo “Meu PAXTU”\, na área de Eventos\, da 00h do dia 12 de outubro de 2022 até às 23h59min. do dia 19 de outubro de 2022 ou até serem contempladas todas as vagas.\nProfissionais de educação\, convidados por Escotistas e Dirigentes\, via formulário online : https://docs.google.com/forms/d/1DEE34MQJkBaMmr7lKlt4Dt-ADPFONfgeguIHBuj2uhU/edit\n\nLimite de vagas  \n60 vagas:  \n\n30 para Escotistas/Dirigentes \n30 para convidados\nObs: cada Escotista/Dirigente poderá convidar um profissional de educação\, à sua escolha. Não será permitida a participação de profissionais de educação sem convite.\n\nDireção: \nVANIA D’ANGELO DOHME – Especialista em marketing e neurociência\, Mestre em educação e Doutora em comunicação e semiótica. Diretora de Métodos Educativos do Grupo Escoteiro Parecis\, Coordenadora Regional de Estudos Escoteiros\, Coordenadora Nacional da Equipe Nacional de EaD – Adjunta. \nQuanto: \n\nEscotistas e Dirigentes: R$ 30\,00 (trinta reais)\, em parcela única por boleto bancário\nConvidados: gratuito (limitado a um convidado por Escotista/Dirigente)\n(Inclui: coffee break)\n\nInformações Complementares  \n\n Os certificados de participação serão emitidos em até 15 dias após a conclusão\n Não serão permitidas transferências de inscrições.\n\nEncontro Escoteiro de Profissionais de Educação
URL:https://www.escoteirossp.org.br/evento/encontro-escoteiro-de-profissionais-de-educacao/
LOCATION:Centro Escoteiro Jaraguá (CEJ)\, R. Adriano Reys\, 1\, Vila Jaraguá\, São Paulo\, São Paulo\, Brasil
CATEGORIES:Cursos
ATTACH;FMTTYPE=image/png:https://www.escoteirossp.org.br/wp/wp-content/uploads/2022/10/Capa-1-E.P.E.E.png
END:VEVENT
END:VCALENDAR