BEGIN:VCALENDAR
VERSION:2.0
PRODID:-//Escoteiros SP - ECPv6.15.20//NONSGML v1.0//EN
CALSCALE:GREGORIAN
METHOD:PUBLISH
X-WR-CALNAME:Escoteiros SP
X-ORIGINAL-URL:https://www.escoteirossp.org.br
X-WR-CALDESC:Eventos para Escoteiros SP
REFRESH-INTERVAL;VALUE=DURATION:PT1H
X-Robots-Tag:noindex
X-PUBLISHED-TTL:PT1H
BEGIN:VTIMEZONE
TZID:America/Sao_Paulo
BEGIN:STANDARD
TZOFFSETFROM:-0200
TZOFFSETTO:-0300
TZNAME:-03
DTSTART:20190217T020000
END:STANDARD
END:VTIMEZONE
BEGIN:VEVENT
DTSTART;VALUE=DATE:20200118
DTEND;VALUE=DATE:20200120
DTSTAMP:20260424T130954
CREATED:20200511T181230Z
LAST-MODIFIED:20200717T192044Z
UID:26720-1579305600-1579478399@www.escoteirossp.org.br
SUMMARY:Encontro Regional da Modalidade do Ar 2020
DESCRIPTION:? O que é o evento? \nO Encontro Regional da Modalidade do Ar tem como objetivo promover o intercâmbio e o envolvimento das Unidades Escoteiras da Modalidade do Ar da Região Escoteira de São Paulo\, assim como de escotistas e dirigentes de outras Modalidades\, ocasião em que são compartilhadas boas práticas\, ouvidos os anseios dos associados\, é gerado alinhamento institucional e são apresentados os resultados obtidos nas últimas ações da Coordenação Regional da Modalidade do Ar (CMASP). \nDurante o Encontro ocorre a Reunião de Dirigentes das UELs da Modalidade do Ar\, um fórum consultivo da Modalidade do Ar na Região Escoteira de São Paulo que analisa e propõe ações de melhorias\, atividades e locais para os eventos da Modalidade.  \nTambém durante o Encontro acontece o Fórum Regional de Jovens CATAr II\, uma instância de debate em prol da evolução da Modalidade do Ar. Nela\, os próprios jovens\, portadores do bevê do CATAr II\, propõem e discutem sugestões de melhorias e aprimoramento dos eventos da Modalidade. Este fórum é o futuro da Modalidade do Ar\, onde se estimula o engajamento e o empoderamento juvenil \n? O porquê do evento? \nAtende ao previsto nos objetivos do Plano Estratégico 1.1.1 e 1.1.2 e os ODS 4\, 5\, 8\, 9 e 17 . \n? Quando? \n18 e 19 de janeiro de 2020 (sábado e domingo) \nAbertura prevista às 10h de 18 de janeiro (sábado) e encerramento previsto às 15h de 19 de janeiro de 2020 (domingo) \nCheck-in das 08h30 às 09h45 de  18 de janeiro de 2020 (sábado). \n? Onde? \nEscola Estadual João Thienne – R. Independência\, 500\, Centro\, Nova Odessa/SP\, CEP 13460-000. \nConheça um pouco mais sobre o local do evento em: http://www.educacao.sp.gov.br/cgrh/escolas/joao-thienne-dr/  \n? Quem pode participar? \nJovens portadores do brevê do CATAr II\, de qualquer Modalidade\, com idade até 21 anos incompletos (ou seja\, nascidos a partir 18 de janeiro de 1999)\, com registro escoteiro válido. \nEscotistas e Dirigentes\, a partir de 18 anos de idade\, com registro escoteiro válido. \n? Como se inscrever?  \nExclusivamente via Meu PAXTU\, na área de Eventos\, das 0h do dia 16 de dezembro de 2019 até às 23h59 do dia 9 de janeiro de 2020\, ou até serem completadas todas as vagas. \nObservação: Todos os participantes do evento deverão estar devidamente uniformizados ou utilizando o vestuário escoteiro\, conforme o modelo adotado pela UEL\, e entregar no check-in autorização assinada pela Diretoria da Unidade Escoteira Local e responsável legal (no caso de menores de idade)\, bem como ficha médica atualizada\, sob pena de não participação no evento. \n? Limite de vagas \n80 (oitenta vagas) para Escotistas\, Dirigentes e Jovens portadores do brevê do CATAr II. \n? Quanto? \nEscotistas\, Dirigentes e Jovens portadores do brevê do CATAr II: R$ 80\,00 (oitenta reais)\, em parcela única. \nEscotistas\, Dirigentes e Jovens portadores do brevê do CATAr II isentos: R$ 20\,00 (vinte reais)\, em parcela única. \nInclui: participação no evento e alimentação. \n? Programa Previsto (sujeito a alterações sem aviso prévio) \n1º dia (sábado) \n– Oficina sobre a Política Nacional de Adultos do Movimento Escoteiro (PNAME) \n– Alinhamento estratégico nacional \n– Fórum Regional de Jovens CATAr II \n– Reunião de Dirigentes das UELs da Modalidade do Ar – Roda de Conversa – Troca de Experiências \n– Jantar Solene e Prêmio Céu de Brigadeiro \n2º dia (domingo) \n– Oficina sobre relações institucionais \n– Apresentação Financeira – Transparência Institucional \n– Apresentação do Sumário das Discussões da Reunião de Dirigentes das UELs da Modalidade do Ar \n– Plenária Livre \n*Para a plenária livre\, os participantes poderão levar sugestões de pauta. \n? BOLETIM: Encontro Regional da Modalidade do Ar \nEncontro Regional da Modalidade do Ar 2020
URL:https://www.escoteirossp.org.br/evento/encontro-regional-da-modalidade-do-ar-2020/
LOCATION:Escola Estadual João Thienne\, R. Independência\, 500\, Nova Odessa\, São Paulo\, 13460-000\, Brasil
CATEGORIES:Encontro,Modalidade do Ar
ATTACH;FMTTYPE=image/jpeg:https://www.escoteirossp.org.br/wp/wp-content/uploads/2020/05/Sem_tiÌtulo-1.jpg
ORGANIZER;CN="Coordena%C3%A7%C3%A3o Regional da Modalidade do Ar":MAILTO:modalidadedoar.sp@escoteiros.org.br
END:VEVENT
END:VCALENDAR