BEGIN:VCALENDAR
VERSION:2.0
PRODID:-//Escoteiros SP - ECPv6.15.20//NONSGML v1.0//EN
CALSCALE:GREGORIAN
METHOD:PUBLISH
X-WR-CALNAME:Escoteiros SP
X-ORIGINAL-URL:https://www.escoteirossp.org.br
X-WR-CALDESC:Eventos para Escoteiros SP
REFRESH-INTERVAL;VALUE=DURATION:PT1H
X-Robots-Tag:noindex
X-PUBLISHED-TTL:PT1H
BEGIN:VTIMEZONE
TZID:America/Sao_Paulo
BEGIN:STANDARD
TZOFFSETFROM:-0300
TZOFFSETTO:-0300
TZNAME:-03
DTSTART:20240101T000000
END:STANDARD
END:VTIMEZONE
BEGIN:VEVENT
DTSTART;TZID=America/Sao_Paulo:20250726T080000
DTEND;TZID=America/Sao_Paulo:20250726T160000
DTSTAMP:20260423T164104
CREATED:20250708T192530Z
LAST-MODIFIED:20250724T191443Z
UID:47849-1753516800-1753545600@www.escoteirossp.org.br
SUMMARY:Encontro Regional de Comunicação 2025
DESCRIPTION:O Encontro Regional de Comunicadores tem o objetivo de capacitar e realizar trocas entre comunicadores de Distritos e Grupos Escoteiros da Região de São Paulo. \nQuando\nSábado\, 26 de julho de 2025. \nOnde\nFaculdade Anhanguera – Leme\nRua Waldemar Silenci\, 340 – Cidade Jardim Leme – SP\, 13614-370\nhttps://maps.app.goo.gl/ybay9Vn17dxpYfe69 \nQuem pode participar\nO evento é direcionado para Pioneiros com 18 anos completos\, Escotistas e Dirigentes com registro escoteiro válido na data do evento\, tendo sua inscrição validada pelo MeuPaxtu. \nO período de inscrição será entre: 09 de julho de 2025 a 20 de julho de 2025. \nConfira o boletim! \nInforme sobre área comercial \nEncontro Regional de Comunicação 2025
URL:https://www.escoteirossp.org.br/evento/encontro-regional-de-comunicacao-2025/
LOCATION:Faculdade Anhanguera – Leme\, Rua Waldemar Silenci\, 340 – Cidade Jardim Leme\, Leme\, São Paulo
CATEGORIES:Encontro
ATTACH;FMTTYPE=image/png:https://www.escoteirossp.org.br/wp/wp-content/uploads/2025/07/site_encont.comunica.png
END:VEVENT
END:VCALENDAR