BEGIN:VCALENDAR
VERSION:2.0
PRODID:-//Escoteiros SP - ECPv6.15.20//NONSGML v1.0//EN
CALSCALE:GREGORIAN
METHOD:PUBLISH
X-WR-CALNAME:Escoteiros SP
X-ORIGINAL-URL:https://www.escoteirossp.org.br
X-WR-CALDESC:Eventos para Escoteiros SP
REFRESH-INTERVAL;VALUE=DURATION:PT1H
X-Robots-Tag:noindex
X-PUBLISHED-TTL:PT1H
BEGIN:VTIMEZONE
TZID:America/Sao_Paulo
BEGIN:STANDARD
TZOFFSETFROM:-0200
TZOFFSETTO:-0300
TZNAME:-03
DTSTART:20190217T020000
END:STANDARD
END:VTIMEZONE
BEGIN:VEVENT
DTSTART;TZID=America/Sao_Paulo:20200208T090000
DTEND;TZID=America/Sao_Paulo:20200208T180000
DTSTAMP:20260424T113212
CREATED:20200511T184126Z
LAST-MODIFIED:20200511T184126Z
UID:26743-1581152400-1581184800@www.escoteirossp.org.br
SUMMARY:Encontro Regional de Formadores 2020
DESCRIPTION:O que é o evento? \nO Encontro Regional de Formadores objetiva que os participantes possam trocar experiências e atualizar ideias e conceitos sobre o processo de formação de adultos dos Escoteiros do Brasil\, além de alinhar a atuação dos formadores (as) junto ao nível Regional. \nO porquê do evento? \nAtende ao previsto nos objetivos do Plano Estratégico 1.4.1\, 1.4.2 e 1.4.3 e o (s) ODS 4\, 5\, 8\, 10\, 16\, 17 \nQuando? \n08 de fevereiro de 2020 (sábado) \nAbertura prevista às 09h e encerramento previsto às 18h  \nCheck-in das 08h às 08h45 de 08 de fevereiro de 2020 (sábado) \nOnde? \nUniversidade Anhanguera – Unidade Santo André \nAv. Dr. Alberto Benedetti\, 444\, Vila Assunção\, Santo André/SP\, CEP 09030-350. \nConheça um pouco mais sobre o local do evento em:  \nhttps://www.anhanguera.com/  \nQuem pode participar? \nFormadores (as)\, com registro escoteiro válido. \nComo se inscrever? \nExclusivamente via Meu PAXTU\, na área de Eventos\, das 0h do dia 22 de janeiro até às 23h59 do 31 de janeiro de 2020\, ou até serem completadas todas as vagas. \nObservação: Todos os participantes do evento deverão estar devidamente uniformizados ou utilizando o vestuário escoteiro\, conforme o modelo adotado pela UEL\, e entregar no check-in autorização pela Diretoria da Unidade Escoteira Local\, bem como ficha médica atualizada\, sob pena de não participação no evento.  \nLimite de vagas \n360 (trezentos e sessenta) vagas \nQuanto? \nFormadores (as): R$ 20\,00 (vinte reais)\, em parcela única. \nInclui: participação no evento e dois coffee-break  \n  \nBOLETIM \nEncontro Regional de Formadores 2020
URL:https://www.escoteirossp.org.br/evento/encontro-regional-de-formadores-2020/
LOCATION:Universidade Anhanguera – Unidade Santo André\, Av. Dr. Alberto Benedetti\, 444\, Santo André\, São Paulo\, 09030-350\, Brasil
CATEGORIES:Encontro
ATTACH;FMTTYPE=image/jpeg:https://www.escoteirossp.org.br/wp/wp-content/uploads/2020/05/tthumb.jpg
ORGANIZER;CN="Coordena%C3%A7%C3%A3o Regional de Gest%C3%A3o da Forma%C3%A7%C3%A3o":MAILTO:formacao@escoteirossp.org.br
END:VEVENT
END:VCALENDAR