BEGIN:VCALENDAR
VERSION:2.0
PRODID:-//Escoteiros SP - ECPv6.15.20//NONSGML v1.0//EN
CALSCALE:GREGORIAN
METHOD:PUBLISH
X-WR-CALNAME:Escoteiros SP
X-ORIGINAL-URL:https://www.escoteirossp.org.br
X-WR-CALDESC:Eventos para Escoteiros SP
REFRESH-INTERVAL;VALUE=DURATION:PT1H
X-Robots-Tag:noindex
X-PUBLISHED-TTL:PT1H
BEGIN:VTIMEZONE
TZID:America/Sao_Paulo
BEGIN:STANDARD
TZOFFSETFROM:-0300
TZOFFSETTO:-0300
TZNAME:-03
DTSTART:20200101T000000
END:STANDARD
END:VTIMEZONE
BEGIN:VEVENT
DTSTART;TZID=America/Sao_Paulo:20210206T090000
DTEND;TZID=America/Sao_Paulo:20210206T180000
DTSTAMP:20260423T145506
CREATED:20201204T214732Z
LAST-MODIFIED:20210107T140449Z
UID:32514-1612602000-1612634400@www.escoteirossp.org.br
SUMMARY:Encontro Regional de Formadores 2021
DESCRIPTION:O que é o evento?\nO Encontro Regional de Formadores é o momento de congraçamento dos voluntários que atuam como\nformadores (as) na Região Escoteira de São Paulo\, e tem como objetivos fortalecer o espírito de equipe\,\nalinhar conceitos e a atuação e ampliar capacitações dos membros da Equipe Regional de Formação.\nNa edição de 2021 o Encontro terá como tema os “Novos Tempos”. \nO porquê do evento?\nAtende ao previsto no objetivo do Plano Estratégico Regional PAR 1.4.1\, 1.4.2 e 1.4.3. \nQuando?\n6 de fevereiro de 2021 (sábado)\nAbertura prevista às 09h e encerramento previsto às 18h. \nOnde?\nOnline. \nQuem pode participar?\nFormadores que atuam na Região Escoteira de São Paulo\, com registro escoteiro válido\, e que já tenham\ncursado ao menos o Encontro de Capacitação de Formadores (antigo Seminário Regional Preparatório de Formadores). \nComo se inscrever?\nExclusivamente via Meu PAXTU\, na área de Eventos\, das 0h do dia 10 de dezembro de 2020 até às 23h59 do dia 13 de janeiro de 2021\, ou até serem contempladas todas as vagas.\nConfira se o seu e-mail de contato está atualizado e correto na sua ficha de cadastro no Paxtu\, pois todas\nas instruções do evento serão enviadas para esse e-mail. Se necessário\, faça os devidos ajustes em seu\ncadastro antes de realizar sua inscrição.\nObservação: Todos os participantes do evento deverão estar devidamente uniformizados ou utilizando o\nvestuário escoteiro\, conforme o modelo adotado pela UEL\, lenço de Gilwell e colar da Insígnia de Madeira. \nLimite de vaga\n400 (quatrocentas) vagas \nQuanto?\nNão há taxa de inscrição para participação. \nBoletim \nEncontro Regional de Formadores 2021
URL:https://www.escoteirossp.org.br/evento/encontro-regional-de-formadores-2021/
LOCATION:Online
CATEGORIES:EAD,Encontro,Escotista,Formação
ATTACH;FMTTYPE=image/jpeg:https://www.escoteirossp.org.br/wp/wp-content/uploads/2020/12/WhatsApp-Image-2020-12-04-at-18.45.38.jpeg
END:VEVENT
END:VCALENDAR