BEGIN:VCALENDAR
VERSION:2.0
PRODID:-//Escoteiros SP - ECPv6.15.20//NONSGML v1.0//EN
CALSCALE:GREGORIAN
METHOD:PUBLISH
X-WR-CALNAME:Escoteiros SP
X-ORIGINAL-URL:https://www.escoteirossp.org.br
X-WR-CALDESC:Eventos para Escoteiros SP
REFRESH-INTERVAL;VALUE=DURATION:PT1H
X-Robots-Tag:noindex
X-PUBLISHED-TTL:PT1H
BEGIN:VTIMEZONE
TZID:America/Sao_Paulo
BEGIN:STANDARD
TZOFFSETFROM:-0300
TZOFFSETTO:-0300
TZNAME:-03
DTSTART:20210101T000000
END:STANDARD
END:VTIMEZONE
BEGIN:VEVENT
DTSTART;TZID=America/Sao_Paulo:20220219T084500
DTEND;TZID=America/Sao_Paulo:20220219T190000
DTSTAMP:20260423T150319
CREATED:20211215T185149Z
LAST-MODIFIED:20211216T170038Z
UID:37246-1645260300-1645297200@www.escoteirossp.org.br
SUMMARY:Encontro Regional de Formadores 2022
DESCRIPTION:O que é o evento?\nO Encontro Regional de Formadores objetiva que os participantes possam trocar experiências e atualizar ideias e conceitos sobre o processo de formação de adultos dos Escoteiros do Brasil\, além de alinhar a atuação dos formadores(as) junto ao nível Regional. \nO porquê do evento?\nA atividade atende ao previsto nos objetivos do Plano Estratégico Regional Escoteiro\, item 1.4.1\, 1.4.2\, 1.4.3\, 1.4.4 e os Indicadores Brasileiros para os Objetivos de Desenvolvimento Sustentável\, itens 4\, 5\, 8\, 10\, 16\, 17.  \nQuando?\nDia 19 de fevereiro de 2022 (sábado) \nAbertura prevista às 08h45 e encerramento previsto às 19h  \nCheck-in online no período de 14/02/2022 a 17/02/2022 \nCheck-in presencial das 8h às 8h40 no dia 19/02/2022 \n(mesmo para participação presencial é possível adiantar o check-in de forma online) \nOnde?\nEvento centralizado síncrono\, ao mesmo tempo para participantes no presencial e no online.  \nCOLÉGIO PETRÓPOLIS – INTERNATIONAL SCHOOL \nAvenida Pery Ronchetti\, 890\, R. Princesa Maria Amélia\, 60 – Nova Petrópolis\, São Bernardo do Campo  \nConheça um pouco mais sobre o local do evento em:  \nhttps://colegiopetropolis.com.br/ \nE para os participantes que estiverem online\, através do Google MEET.\n \nQuanto?\nFormadores (as) no presencial e online: R$30\,00 (trinta reais)\, em parcela única.  \nFormadores (as) isentos no presencial e online: R$9\,00 (nove reais)\, em parcela única \nInclui: participação no evento\, plataformas digitais contratadas  e 1 coffee break. \n\nQuem pode participar?\nFormadores(as)\, com registro escoteiro válido. \nComo se inscrever?\nExclusivamente via Meu PAXTU\, na área de Eventos\, da 00h do 21 de dezembro de 2021 até às 23h59 do 23 de janeiro de 2022\, ou até serem contempladas todas as vagas. \nLimite de vagas\n100 vagas para participantes no presencial. \n150 vagas para participantes online. \n  \nConfira o boletim completo com todas as informações abaixo: \nBoletim \n  \nEncontro Regional de Formadores 2022
URL:https://www.escoteirossp.org.br/evento/encontro-regional-de-formadores-2022/
LOCATION:Avenida Pery Ronchetti\, 890\, R. Princesa Maria Amélia\, 60 – Nova Petrópolis\, São Bernardo do Campo\, Avenida Pery Ronchetti\, 890\, R. Princesa Maria Amélia\, 60 - Nova Petrópolis\, São Bernardo do Campo\, São Bernardo\, São Paulo\, Brasil
CATEGORIES:Encontro,Formação
ATTACH;FMTTYPE=image/jpeg:https://www.escoteirossp.org.br/wp/wp-content/uploads/2020/12/thumbnail.jpeg
END:VEVENT
END:VCALENDAR