BEGIN:VCALENDAR
VERSION:2.0
PRODID:-//Escoteiros SP - ECPv6.15.20//NONSGML v1.0//EN
CALSCALE:GREGORIAN
METHOD:PUBLISH
X-WR-CALNAME:Escoteiros SP
X-ORIGINAL-URL:https://www.escoteirossp.org.br
X-WR-CALDESC:Eventos para Escoteiros SP
REFRESH-INTERVAL;VALUE=DURATION:PT1H
X-Robots-Tag:noindex
X-PUBLISHED-TTL:PT1H
BEGIN:VTIMEZONE
TZID:America/Sao_Paulo
BEGIN:STANDARD
TZOFFSETFROM:-0300
TZOFFSETTO:-0300
TZNAME:-03
DTSTART:20220101T000000
END:STANDARD
END:VTIMEZONE
BEGIN:VEVENT
DTSTART;TZID=America/Sao_Paulo:20230225T170000
DTEND;TZID=America/Sao_Paulo:20230226T180000
DTSTAMP:20260423T194135
CREATED:20230109T174752Z
LAST-MODIFIED:20230117T204914Z
UID:40390-1677344400-1677434400@www.escoteirossp.org.br
SUMMARY:Encontro Regional de Formadores 2023
DESCRIPTION:O que é o evento?\nO Encontro Regional de Formadores objetiva que os participantes possam trocar\nexperiências e atualizar ideias e conceitos sobre o processo de formação de adultos dos\nEscoteiros do Brasil\, além de alinhar a atuação dos formadores junto ao Nível Regional. \nQuando?\n25 e 26 de fevereiro de 2023:\n– 25/02\, sábado: Encontro de Gilwell das 18h às 19h30 (credenciamento às 17h)\n– 26/02\, domingo: das 09h às 18h (credenciamento às 08h) \nOnde?\nUniversidade Santa Cecília – UNISANTA\nR. Oswaldo Cruz\, 277 – Boqueirão\, Santos – SP\, 11045-907\nConheça um pouco mais sobre o local do evento em:\nhttps://unisanta.br/ \nQuem pode participar?\nEscotistas e Dirigentes portadores da Insígnia de Madeira\, que atuam como formadores e\nestão com registro válido. \nLimite de vagas\n200 (duzentas) vagas. \nComo se Inscrever\nExclusivamente pelo “Meu PAXTU”\, na área de Eventos\, da 00h do dia 18 de janeiro de 2023 até às 23h59min. do dia 30 de janeiro de 2023 ou até serem contempladas todas as vagas. \nQuanto?\nR$ 65\,00 ( sessenta e cinco reais )\, pago apenas através de boleto bancário.\n(Inclui: coffee break e distintivo do evento) \nConfira o boletim\nBoletim – Encontro Regional de Formadores 2023\nBoletim 2 – Complementar: Informações sobre pernoite \nEncontro Regional de Formadores 2023
URL:https://www.escoteirossp.org.br/evento/encontro-regional-de-formadores-2023/
LOCATION:Universidade Santa Cecília – UNISANTA\, R. Oswaldo Cruz\, 277 - Boqueirão\, Santos\, São Paulo\, 11045-907\, Brasil
CATEGORIES:Encontro
ATTACH;FMTTYPE=image/png:https://www.escoteirossp.org.br/wp/wp-content/uploads/2023/01/CAPASITE_ERF.png
END:VEVENT
END:VCALENDAR