BEGIN:VCALENDAR
VERSION:2.0
PRODID:-//Escoteiros SP - ECPv6.15.20//NONSGML v1.0//EN
CALSCALE:GREGORIAN
METHOD:PUBLISH
X-WR-CALNAME:Escoteiros SP
X-ORIGINAL-URL:https://www.escoteirossp.org.br
X-WR-CALDESC:Eventos para Escoteiros SP
REFRESH-INTERVAL;VALUE=DURATION:PT1H
X-Robots-Tag:noindex
X-PUBLISHED-TTL:PT1H
BEGIN:VTIMEZONE
TZID:America/Sao_Paulo
BEGIN:STANDARD
TZOFFSETFROM:-0300
TZOFFSETTO:-0300
TZNAME:-03
DTSTART:20200101T000000
END:STANDARD
END:VTIMEZONE
BEGIN:VEVENT
DTSTART;TZID=America/Sao_Paulo:20211128T080000
DTEND;TZID=America/Sao_Paulo:20211128T130000
DTSTAMP:20260423T155210
CREATED:20211105T221051Z
LAST-MODIFIED:20211110T210828Z
UID:37046-1638086400-1638104400@www.escoteirossp.org.br
SUMMARY:Encontro Regional de Gestores de UEL
DESCRIPTION:O que é o evento?\nA Diretoria Regional dos Escoteiros do Brasil – Região de São Paulo convida os (as) gestores (as) de todas as Unidades Escoteiras Locais (Grupos Escoteiros e Seções Autônomas) ativas da Região Escoteira de São Paulo para participarem desse evento. Reuniremos estes gestores dos diferentes contextos (Região/Distritos/UELs) para fortalecer o compromisso de harmonia de ações para dar sustentação à prática do escotismo no estado de São Paulo. \nO porquê do evento?\n– Atende ao previsto no objetivo do Plano Estratégico Regional no item 2.1.5;\n– Traz a discussão o Objetivo de Desenvolvimento Sustentável número 16 – Paz\, Justiça e Instituições Eficazes;\n– Momento de fortalecimento de vínculos (Região / Distritos / UELs);\n– Busca de maior percepção das potencialidades e barreiras do nível local\, que também tragam subsídios ao planejamento de ações da região escoteira. \nQuando?\nData: 28/11/2021 (domingo)\nHorário: abertura prevista às 8h e encerramento previsto às 13h \nOnde?\nO evento será presencial\, descentralizado em cada Distrito\, seguindo todas as normas sanitárias para eventos institucionais. O distrito estará conectado virtualmente através do aplicativo Google MEET com os demais distritos e a organização do evento. Para os inscritos que por algum impedimento não possam participar presencialmente\, haverá a opção de participação virtual. \nQuanto?\nGratuito. Podem haver custos referentes à alimentação oferecida pelo distrito. Consulte seu comissário distrital. \nQuem pode participar?\n– 1 vaga por UEL (Membro de diretoria do grupo escoteiro\, preferencialmente o Diretor Presidente\, ou Chefe da Seção Autônoma);\n– Comissário Distrital e/ou o Comissário Distrital Adjunto.\n– Haverá restrição da participação aos demais membros da comissão distrital\, bem como de outros dirigentes de UELs para favorecer o cumprimento das normas sanitárias. \nComo se inscrever?\nExclusivamente via MEU PAXTU\, na área de Eventos\, do dia 6 de novembro de 2021 até às 23h59min do 19 de novembro de 2021. \nSaiba todas as informações aqui: \nBoletim \nEncontro Regional de Gestores de UEL
URL:https://www.escoteirossp.org.br/evento/encontro-regional-de-gestores-de-uel/
LOCATION:Descentralizado
CATEGORIES:Encontro,Escotista
ATTACH;FMTTYPE=image/jpeg:https://www.escoteirossp.org.br/wp/wp-content/uploads/2021/11/encontrogestores.jpg
END:VEVENT
END:VCALENDAR