BEGIN:VCALENDAR
VERSION:2.0
PRODID:-//Escoteiros SP - ECPv6.15.20//NONSGML v1.0//EN
CALSCALE:GREGORIAN
METHOD:PUBLISH
X-WR-CALNAME:Escoteiros SP
X-ORIGINAL-URL:https://www.escoteirossp.org.br
X-WR-CALDESC:Eventos para Escoteiros SP
REFRESH-INTERVAL;VALUE=DURATION:PT1H
X-Robots-Tag:noindex
X-PUBLISHED-TTL:PT1H
BEGIN:VTIMEZONE
TZID:America/Sao_Paulo
BEGIN:STANDARD
TZOFFSETFROM:-0200
TZOFFSETTO:-0300
TZNAME:-03
DTSTART:20190217T020000
END:STANDARD
END:VTIMEZONE
BEGIN:VEVENT
DTSTART;TZID=America/Sao_Paulo:20201206T090000
DTEND;TZID=America/Sao_Paulo:20201206T120000
DTSTAMP:20260423T174922
CREATED:20201106T191827Z
LAST-MODIFIED:20201106T214605Z
UID:31757-1607245200-1607256000@www.escoteirossp.org.br
SUMMARY:Encontro Regional de Gestores de UELs 2020
DESCRIPTION:“Nossos Desafios e Nossa Caminhada”\n \nA Diretoria Regional dos Escoteiros do Brasil – Região de São Paulo convida os (as) gestores (as) de todas as Unidades Escoteiras Locais (Grupos Escoteiros e Seções Autônomas) ativas da Região Escoteira de São Paulo para diálogos e reflexões no Encontro Regional de Gestores de UELs 2020\, sob a temática “Nossos Desafios e Nossa Caminhada”.\n\n? Quem pode participar? \nDiretor Presidente do Grupo (ou representante)\, Chefe da Seção Autônoma\, Comissário Distrital ou seu Adjunto\, com registro escoteiro válido. \n? Quando? \n06 de dezembro de 2020 (domingo)\, das 9h às 12h. \n? Onde? \nOn-line. \nBasta que tenha um computador\, tablet ou celular com conexão à internet. \nOs participantes receberão\, próximo à data de realização do evento\, instruções  sobre onde e como deverão se conectar para o Encontro. \n? Quanto? \nGratuito. \n? Como se inscrever? \nExclusivamente via MEU PAXTU\, área de Eventos\, das 0h do dia 7 de novembro até as 23h59 do dia 1º de dezembro de 2020. \n1 vaga por UEL (Diretor de Grupo\, preferencialmente Presidente\, ou Chefe da Seção Autônoma) \n1 vaga por Comissão Distrital (Comissário Distrital ou seu Adjunto) \n? Conteúdo Programático \nAmbientação \nDe onde partimos\, onde estamos\, aonde queremos chegar \nO caminhar de cada UEL \nPromovendo nosso propósito\, impactando a sociedade/ O que é essa tal “integridade” \nReinventar o Escotismo em tempos de pandemia/ Atividades com segurança e responsabilidade\n \nO caminhar contínuo\, planejando e revisando cada passo/ A construção do plano 2022-2025\n \n? Mais Informações\n \nEscritório Regional de São Paulo dos Escoteiros do Brasil – Eventos \nE-mail: eventos@escoteirossp.org.br   \nTel.: (11) 3154-5500 ramal 4 \nWhatsApp: (11) 95795-0685  \n\nEncontro Regional de Gestores de UELs 2020
URL:https://www.escoteirossp.org.br/evento/encontro-regional-de-gestores-de-uels-2020/
LOCATION:Online
CATEGORIES:Dirigente,Encontro
ATTACH;FMTTYPE=image/jpeg:https://www.escoteirossp.org.br/wp/wp-content/uploads/2020/11/thumbnail.jpeg
END:VEVENT
END:VCALENDAR