BEGIN:VCALENDAR
VERSION:2.0
PRODID:-//Escoteiros SP - ECPv6.15.20//NONSGML v1.0//EN
CALSCALE:GREGORIAN
METHOD:PUBLISH
X-WR-CALNAME:Escoteiros SP
X-ORIGINAL-URL:https://www.escoteirossp.org.br
X-WR-CALDESC:Eventos para Escoteiros SP
REFRESH-INTERVAL;VALUE=DURATION:PT1H
X-Robots-Tag:noindex
X-PUBLISHED-TTL:PT1H
BEGIN:VTIMEZONE
TZID:America/Sao_Paulo
BEGIN:STANDARD
TZOFFSETFROM:-0300
TZOFFSETTO:-0300
TZNAME:-03
DTSTART:20220101T000000
END:STANDARD
END:VTIMEZONE
BEGIN:VEVENT
DTSTART;TZID=America/Sao_Paulo:20230827T090000
DTEND;TZID=America/Sao_Paulo:20230827T140000
DTSTAMP:20260424T055550
CREATED:20230728T193346Z
LAST-MODIFIED:20230728T203442Z
UID:42144-1693126800-1693144800@www.escoteirossp.org.br
SUMMARY:Encontro Regional de IM3 e IM4 2023
DESCRIPTION:O que é o evento\nConsiderando que o Marco de Referência afirma que o adulto portador da Insígnia de Madeira 3 (IM3) deve: \n\nDar suporte a outros adultos no desempenho de suas funções no Programa Educativo;\nDar suporte aos adultos que trabalham em áreas como Proteção Infantojuvenil\, Diversidade e Inclusão;\nDar suporte às equipes de treinamento\, eventos de treinamento\, processo de aprendizagem de líderes etc.;\nDar suporte a eventos nacionais e equipes de adultos.\n\nE o portador da Insígnia de Madeira 4 (IM4) deve: \n\nDesenvolver uma estratégia para implementar o Programa Educativo ou a Gestão de Adultos no ciclo de vida no Movimento Escoteiro;\nConceituar e projetar sistemas de apoio para adultos que trabalham em áreas como Proteção Infantojuvenil\, Diversidade e Inclusão etc.;\nDesenvolver sistemas de treinamento e eventos de treinamento;\nConceitualizar\, projetar e gerenciar eventos nacionais\, regionais e mundiais.\n\nA Diretoria Regional de Métodos Educativos convida a você para participar do “Encontro Regional de IM3 e IM4”. \nNesta reunião vamos promover a escuta ativa\, desenvolver estratégias de participação nos fluxos regionais\, construir e propor novas matrizes de conteúdos e desenvolver estratégias de análise de níveis formativos. \nQuando\nDe 27 de agosto de 2023.\nDas 9h às 14h; e credenciamento a partir das 8h30. \nOnde\nCentro Escoteiro Jaraguá\nRua Adriano Reys\, 1 – Vila Jaraguá\,\nSão Paulo – SP\, 05164-020 \nQuem pode participar\nTodos os associados portadores de Insígnia de Madeira 3 e 4 (CNGA1 ou CNGA2 concluído ou equivalente)\, registrados no ano de 2023 na Região de São Paulo. Lembrando que a inscrição só será validada se essa informação estiver contida no Paxtu; caso contrário\, será automaticamente cancelada. Todos os inscritos vão passar por esta triagem\, não havendo exceções. \nComo se inscrever\nExclusivamente via Meu PAXTU\, das 00h01 de 28 de julho de 2023 até às 23h59 de 11 de agosto de 2023.\nLimite de participação: 50 vagas \nInvestimento\nGratuito*\n*Pedimos que o voluntário só se inscrever se tiver certeza da participação – assim\, não compromete a possiblidade de participação de outro associado. \nConfira todas as informações: \nBoletim \nEncontro Regional de IM3 e IM4 2023
URL:https://www.escoteirossp.org.br/evento/encontro-regional-de-im3-e-im4-2023/
LOCATION:Centro Escoteiro Jaraguá (CEJ)\, R. Adriano Reys\, 1\, Vila Jaraguá\, São Paulo\, São Paulo\, Brasil
CATEGORIES:Encontro
ATTACH;FMTTYPE=image/png:https://www.escoteirossp.org.br/wp/wp-content/uploads/2023/07/capasite_encontroims-1.png
ORGANIZER;CN="Diretoria Regional de M%C3%A9todos Educativos":MAILTO:metodos.sp@escoteiros.org.br
END:VEVENT
END:VCALENDAR