BEGIN:VCALENDAR
VERSION:2.0
PRODID:-//Escoteiros SP - ECPv6.15.20//NONSGML v1.0//EN
CALSCALE:GREGORIAN
METHOD:PUBLISH
X-WR-CALNAME:Escoteiros SP
X-ORIGINAL-URL:https://www.escoteirossp.org.br
X-WR-CALDESC:Eventos para Escoteiros SP
REFRESH-INTERVAL;VALUE=DURATION:PT1H
X-Robots-Tag:noindex
X-PUBLISHED-TTL:PT1H
BEGIN:VTIMEZONE
TZID:America/Sao_Paulo
BEGIN:STANDARD
TZOFFSETFROM:-0300
TZOFFSETTO:-0300
TZNAME:-03
DTSTART:20230101T000000
END:STANDARD
END:VTIMEZONE
BEGIN:VEVENT
DTSTART;TZID=America/Sao_Paulo:20240224T080000
DTEND;TZID=America/Sao_Paulo:20240224T193000
DTSTAMP:20260423T193942
CREATED:20240206T204958Z
LAST-MODIFIED:20240206T204958Z
UID:43831-1708761600-1708803000@www.escoteirossp.org.br
SUMMARY:Encontro Regional de IM's e Formadores
DESCRIPTION:Neste ano o Encontro Regional de Formadores vai ser diferente!\nO Encontro continua com o objetivo de proporcionar aos participantes uma troca de experiências e atualização de ideias e conceitos sobre o processo de formação de adultos dos Escoteiros do Brasil; além\, também\, de alinhar a atuação dos formadores junto ao Nível Regional. \nConforme o Marco de Referência de Insígnia de Madeira é papel dos IMs apoiar a implantação do Programa Educativo e auxiliar outros adultos no Movimento Escoteiro; sendo assim\, neste ano convidamos também todos os voluntários portadores da Insígnia de Madeira que tenham interesse em conhecer a atuação do voluntário em Nível Regional nas áreas de Programa Educativo\, Gestão Institucional e Gestão de Adultos\, a participar de nosso encontro. \nQuando\n24 de fevereiro de 2024\, sábado\nDas 9h às 18h (credenciamento a partir das 8h) \nEncontro de Gilwell\n24 de fevereiro de 2024\, sábado\nDas 18h30 às 19h30 \nOnde\nFATEC São José dos Campos – Prof. Jessen Vidal\nAvenida Cesare Monsueto Giulio Lattes\, 1350 – Distrito Eugênio de Melo\nSão José dos Campos / SP\nhttps://maps.app.goo.gl/afrhuwgSAsKZ1Kwg7\n \nQuanto\nR$ 65\,00 (sessenta e cinco reais) no boleto bancário. \nConfira todas as informações:\nBoletim \nEncontro Regional de IM’s e Formadores
URL:https://www.escoteirossp.org.br/evento/encontro-regional-de-ims-e-formadores/
LOCATION:FATEC São José dos Campos – Prof. Jessen Vidal\, Avenida Cesare Monsueto Giulio Lattes\, 1350\, São José dos Campos / SP
CATEGORIES:Encontro
ATTACH;FMTTYPE=image/png:https://www.escoteirossp.org.br/wp/wp-content/uploads/2024/02/bannersite.png
END:VEVENT
END:VCALENDAR