BEGIN:VCALENDAR
VERSION:2.0
PRODID:-//Escoteiros SP - ECPv6.15.20//NONSGML v1.0//EN
CALSCALE:GREGORIAN
METHOD:PUBLISH
X-WR-CALNAME:Escoteiros SP
X-ORIGINAL-URL:https://www.escoteirossp.org.br
X-WR-CALDESC:Eventos para Escoteiros SP
REFRESH-INTERVAL;VALUE=DURATION:PT1H
X-Robots-Tag:noindex
X-PUBLISHED-TTL:PT1H
BEGIN:VTIMEZONE
TZID:America/Sao_Paulo
BEGIN:STANDARD
TZOFFSETFROM:-0200
TZOFFSETTO:-0300
TZNAME:-03
DTSTART:20190217T020000
END:STANDARD
END:VTIMEZONE
BEGIN:VEVENT
DTSTART;VALUE=DATE:20200926
DTEND;VALUE=DATE:20200928
DTSTAMP:20260423T155127
CREATED:20200813T192803Z
LAST-MODIFIED:20200814T135747Z
UID:29386-1601078400-1601251199@www.escoteirossp.org.br
SUMMARY:Encontro Regional de Jovens Líderes 2020
DESCRIPTION:Depois de sonhar\, imaginar e provar que somos capazes\, vamos agora compreender o que podemos fazer em nossas ações e discussões diárias em busca de um mundo cada vez melhor\, mostrando nosso impacto na sociedade como jovens líderes e conhecendo ainda mais os lugares em que nos encaixamos e afetamos diretamente com o Encontrinho “tu te tornas eternamente responsável por aquilo que cativas”.\nNeste ano\, o evento será totalmente online\, com um modelo de programação adequado à situação que nos encontramos atualmente\, trazendo capacitações e discussões envolventes. É uma oportunidade única para que os jovens líderes possam se aproximar das equipes regionais e entender onde a participação do jovem à nível regional é produtiva\, aliada a uma conexão e identificação maior como Rede de Jovens.\nO tema do 7° Encontro Regional de Jovens Líderes “Tu te tornas eternamente responsável por aquilo que cativas” é proveniente do conhecido livro “O Pequeno Príncipe” e envolverá toda a trama em suas atividades e acontecimentos. \nO porquê do evento \nAtende ao previsto no objetivo do Plano Estratégico Regional: 1.5.2 e 1.8.2 e nos artigos 37 e 42 dos Parâmetros Regulamentares da Rede de Jovens Líderes – SP\nO evento engloba todos os ODS\, em especial: 2\, 5\, 10\, 11\, 16 e 17. \nQuando? \n26 e 27 de setembro de 2020 (sábado e domingo)\nCheck-in virtual: Todos os participantes deverão apresentar autorização de atividade (disponível para download na área de Eventos do Meu Paxtu)\, devidamente preenchida e assinada (digitalmente ou com assinatura escaneada) pela Diretoria da UEL\, devendo ser enviada entre os dias 14/09/2020 e 17/09/2020 via e-mail para jovens.lideres@escoteirossp.org.br. Em seguida os inscritos receberão um e-mail com o link para o acesso ao servidor do Discord onde ocorrerá o evento. Todos devem estar com o nome de usuário do Discord igual ao nome que consta na autorização de atividade. Caso o participante não realize o envio da autorização assinada até às 23h59 do dia 17/09/2020\, não poderá participar do evento. \nOnde? \nOn-line\, através da plataforma Discord e página do Facebook Rede de Jovens – SP \n  \nBoletim \nEncontro Regional de Jovens Líderes 2020
URL:https://www.escoteirossp.org.br/evento/encontro-regional-de-jovens-lideres-2020/
LOCATION:Online
CATEGORIES:Encontro
ATTACH;FMTTYPE=image/jpeg:https://www.escoteirossp.org.br/wp/wp-content/uploads/2020/08/WhatsApp-Image-2020-08-13-at-16.26.50.jpeg
ORGANIZER;CN="N%C3%BAcleo Regional de Jovens L%C3%ADderes":MAILTO:jovens.lideres@escoteirossp.org.br
END:VEVENT
END:VCALENDAR