BEGIN:VCALENDAR
VERSION:2.0
PRODID:-//Escoteiros SP - ECPv6.15.20//NONSGML v1.0//EN
CALSCALE:GREGORIAN
METHOD:PUBLISH
X-WR-CALNAME:Escoteiros SP
X-ORIGINAL-URL:https://www.escoteirossp.org.br
X-WR-CALDESC:Eventos para Escoteiros SP
REFRESH-INTERVAL;VALUE=DURATION:PT1H
X-Robots-Tag:noindex
X-PUBLISHED-TTL:PT1H
BEGIN:VTIMEZONE
TZID:America/Sao_Paulo
BEGIN:STANDARD
TZOFFSETFROM:-0200
TZOFFSETTO:-0300
TZNAME:-03
DTSTART:20190217T020000
END:STANDARD
END:VTIMEZONE
BEGIN:VEVENT
DTSTART;VALUE=DATE:20200329
DTEND;VALUE=DATE:20200330
DTSTAMP:20260423T211908
CREATED:20200513T200116Z
LAST-MODIFIED:20200724T174303Z
UID:26770-1585440000-1585526399@www.escoteirossp.org.br
SUMMARY:Encontro Regional de Radioescotismo 2020
DESCRIPTION:O que é o evento? \nO Encontro Regional de Radioescotismo é um evento de integração entre os participantes\, com palestras técnicas e abordagem voltada à participação do radioamador jovem\, escotista ou dirigente que atua nas Unidades Escoteiras Locais. O intuito do Encontro é promover um fórum de discussão de assuntos relacionados ao Radioescotismo. Os jovens participantes terão atividades diferenciadas que contemplarão os ODS 4 e 7\, além de contribuir para uma Carta de Intenções para melhoria do Radioescotismo em nível Nacional. \nO porquê do evento? \nAtende ao previsto nos objetivos do Plano Estratégico 1.1.1\, 1.1.2 e 1.5.2 e os ODS 4 e 7. \nQuando?\n29 de março de 2020 (domingo)\nAbertura prevista às 08h e encerramento previsto às 17h30\nCheck-in das 07h30 às 08h de 29 de março de 2020 (domingo) \nOnde?\nCADEN – Centro de Aperfeiçoamento e Desenvolvimento SABESP (sede do Grupo Escoteiro Tabapuã 154/SP)\nR. Cajaíba\, 390\, Perdizes\, São Paulo/SP\, CEP: 05025-000.\nConheça um pouco mais sobre o local do evento em:\nhttps://goo.gl/maps/WggAvEScaDn89FPs6 \nQuem pode participar?\nLobinhos(as)\, Escoteiros(as)\, Seniores/Guias e Pioneiros(as)\, com registro escoteiro válido. De preferência\, aqueles que possuem o COER (Certificado de Operador de Estação de Radioamador). Escotistas e Dirigentes\, a partir de 18 anos de idade\, com registro escoteiro válido. De preferência\, aqueles que possuem o COER (Certificado de Operador de Estação de Radioamador). \nComo se inscrever? \nExclusivamente via Meu PAXTU\, na área de Eventos\, das 0h do dia 26 de fevereiro até às 23h59 do 16 de março de 2020\, ou até serem completadas todas as vagas.\nObservação: Todos os participantes do evento deverão estar devidamente uniformizados ou utilizando o vestuário escoteiro\, conforme o modelo adotado pela UEL\, e entregar no check-in autorização pela Diretoria da Unidade Escoteira Local e responsável legal (no caso de menores de idade)\, bem como ficha médica atualizada\, sob pena de não participação no evento. \nLimite de vagas \n40 vagas (quarenta) para Lobinhos/as\, Escoteiros/as\, Seniores/Guias e Pioneiros/as\n70 (setenta) para Escotistas e Dirigentes \n  \nQuanto? \nLobinhos (as)\, Escoteiros (as)\, Seniores/Guias e Pioneiros (as): R$ 38\,00 (trinta e oito reais)\, em\nparcela única.\nLobinhos (as)\, Escoteiros (as)\, Seniores/Guias e Pioneiros (as) isentos: R$ 9\,50 (nove reais e\ncinquenta centavos)\, em parcela única.\nEscotistas e Dirigentes: R$ 38\,00 (trinta e oito reais)\, em parcela única.\nEscotistas e Dirigentes isentos: R$ 9\,50 (nove reais e cinquenta centavos)\, em parcela única.\nInclui: participação no evento\, dois coffee-break\, acompanhamento para o churrasco comunitário (arroz\,\nsalada\, pão francês e vinagrete)\, serviço de churrasqueiro e distintivo do evento. \n  \nBOLETIM DISPONÍVEL  \nEncontro Regional de Radioescotismo 2020
URL:https://www.escoteirossp.org.br/evento/encontro-regional-de-radioescotismo-2020/
LOCATION:CADEN – Centro de Aperfeiçoamento e Desenvolvimento SABESP (sede do Grupo Escoteiro Tabapuã 154/SP)\, R. Cajaíba\, 390\, Perdizes\, São Paulo\, São Paulo\, 05025-000\, Brasil
CATEGORIES:Encontro,Radioescotismo
ATTACH;FMTTYPE=image/png:https://www.escoteirossp.org.br/wp/wp-content/uploads/2020/05/THUMB.png
ORGANIZER;CN="Coordena%C3%A7%C3%A3o Regional de Radioescotismo":MAILTO:radioescotismo.sp@escoteiros.org.br
END:VEVENT
END:VCALENDAR