BEGIN:VCALENDAR
VERSION:2.0
PRODID:-//Escoteiros SP - ECPv6.15.20//NONSGML v1.0//EN
CALSCALE:GREGORIAN
METHOD:PUBLISH
X-WR-CALNAME:Escoteiros SP
X-ORIGINAL-URL:https://www.escoteirossp.org.br
X-WR-CALDESC:Eventos para Escoteiros SP
REFRESH-INTERVAL;VALUE=DURATION:PT1H
X-Robots-Tag:noindex
X-PUBLISHED-TTL:PT1H
BEGIN:VTIMEZONE
TZID:America/Sao_Paulo
BEGIN:STANDARD
TZOFFSETFROM:-0300
TZOFFSETTO:-0300
TZNAME:-03
DTSTART:20200101T000000
END:STANDARD
END:VTIMEZONE
BEGIN:VEVENT
DTSTART;TZID=America/Sao_Paulo:20210328T073000
DTEND;TZID=America/Sao_Paulo:20210328T130000
DTSTAMP:20260423T162407
CREATED:20201215T182300Z
LAST-MODIFIED:20201215T213150Z
UID:32781-1616916600-1616936400@www.escoteirossp.org.br
SUMMARY:Encontro Regional de Radioescotismo 2021
DESCRIPTION:O que é o evento?\nO Encontro Regional de Radioescotismo é um evento de integração entre os participantes\, com palestras\ntécnicas e abordagem voltada à participação do radioamador jovem\, escotista ou dirigente que atua\nnas Unidades Escoteiras Locais. O intuito do Encontro é promover um fórum de discussão de assuntos\nrelacionados ao Radioescotismo. Os jovens participantes terão atividades diferenciadas. \nO porquê do evento?\nAtende ao previsto nos objetivos do Plano Estratégico Regional 2019-2021 1.1.1\, 1.1.2 e 1.5.2 e os ODS\n4 e 7. \nQuando?\n28 de março de 2021 (domingo)\nAbertura prevista às 07h30 e encerramento previsto às 13h \nCheck-in\nCheck-in até dia 08 de março de 2021 (semana) através do link:\nhttps://forms.gle/2p4owDSWNzRksmtw7\nEntregar no check-in autorização assinada pela Diretoria da Unidade Escoteira Local e responsável legal\n(no caso de menores de idade) \nOnde?\nVirtualmente\, através dos aplicativos Zoom\, Discord e YouTube \nQuem pode participar?\nEscoteiros(as)\, Seniores/Guias e Pioneiros(as)\, com registro escoteiro válido. De preferência\, aqueles que possuem o COER (Certificado de Operador de Estação de Radioamador). Escotistas e Dirigentes\, a partir de 18 anos de idade\, com registro escoteiro válido. De preferência\, aqueles que possuem o COER (Certificado de Operador de Estação de Radioamador). \nComo se inscrever?\nExclusivamente via Meu PAXTU\, na área de Eventos\, das 0h do dia 15 de dezembro de 2020 até às 23h59\ndo dia 28 de fevereiro de 2021\, ou até serem contempladas todas as vagas. \n  \nBoletim \n  \n  \nEncontro Regional de Radioescotismo 2021
URL:https://www.escoteirossp.org.br/evento/encontro-regional-de-radioescotismo-2021/
LOCATION:Online
CATEGORIES:Radioescotismo
ATTACH;FMTTYPE=image/jpeg:https://www.escoteirossp.org.br/wp/wp-content/uploads/2020/12/WhatsApp-Image-2020-12-15-at-18.11.22-e1608067893569.jpeg
ORGANIZER;CN="Coordena%C3%A7%C3%A3o Regional de Radioescotismo":MAILTO:radioescotismo.sp@escoteiros.org.br
END:VEVENT
END:VCALENDAR