BEGIN:VCALENDAR
VERSION:2.0
PRODID:-//Escoteiros SP - ECPv6.15.20//NONSGML v1.0//EN
CALSCALE:GREGORIAN
METHOD:PUBLISH
X-WR-CALNAME:Escoteiros SP
X-ORIGINAL-URL:https://www.escoteirossp.org.br
X-WR-CALDESC:Eventos para Escoteiros SP
REFRESH-INTERVAL;VALUE=DURATION:PT1H
X-Robots-Tag:noindex
X-PUBLISHED-TTL:PT1H
BEGIN:VTIMEZONE
TZID:America/Sao_Paulo
BEGIN:STANDARD
TZOFFSETFROM:-0300
TZOFFSETTO:-0300
TZNAME:-03
DTSTART:20230101T000000
END:STANDARD
END:VTIMEZONE
BEGIN:VEVENT
DTSTART;TZID=America/Sao_Paulo:20240518T090000
DTEND;TZID=America/Sao_Paulo:20240518T163000
DTSTAMP:20260423T224715
CREATED:20240408T173300Z
LAST-MODIFIED:20240408T173519Z
UID:44304-1716022800-1716049800@www.escoteirossp.org.br
SUMMARY:Fórum Regional de Jovens do Ramo Escoteiro e Sênior
DESCRIPTION:Acontecendo pela primeira vez no estado de São Paulo\, e a exemplo do Fórum de Jovens Nacionais\, o Fórum Regional de Jovens do Ramo Escoteiro e Sênior tem como objetivo promover a escuta ativa e a opinião dos jovens do Estado com relação ao programa e às práticas desenvolvidas no Movimento Escoteiro. \nQuando \nSábado\, 18 de maio de 2024.\nAbertura às 10h e encerramento (previsto) às 16h30.\nCheck-in das 09h às 10h.\nO check-in será feito por participante\, onde deverá ser entregue autorização assinada pelo responsável legal e pelo membro da Diretoria da Unidade Escoteira Local\, além da Ficha Médica devidamente atualizada. A não apresentação destes documentos acarretará na impossibilidade de participação no evento. \nOnde \nCentro Escoteiro Jaraguá\nRua Adriano Reys\, 1 – Vila Jaraguá\, São Paulo – SP\, 05164-020\nComo chegar: https://maps.app.goo.gl/F7Hk2v3BM2X3m3RT6 \nComo se inscrever \nExclusivamente via Meu PAXTU\, área de Eventos\, das 0h01 do dia 09 de abril de 2024 até às 23h59 do dia 06 de maio de 2024\, ou até serem preenchidas todas as vagas.\nLimite de 100 (cem) vagas. \nConfira toda as informações! \nBoletim 1 \nFórum Regional de Jovens do Ramo Escoteiro e Sênior
URL:https://www.escoteirossp.org.br/evento/forum-regional-de-jovens-do-ramo-escoteiro-e-senior/
LOCATION:Centro Escoteiro Jaraguá (CEJ)\, R. Adriano Reys\, 1\, Vila Jaraguá\, São Paulo\, São Paulo\, Brasil
CATEGORIES:Fórum
ATTACH;FMTTYPE=image/png:https://www.escoteirossp.org.br/wp/wp-content/uploads/2024/04/bannersite.png
ORGANIZER;CN="Diretoria Regional de M%C3%A9todos Educativos":MAILTO:metodos.sp@escoteiros.org.br
END:VEVENT
END:VCALENDAR