BEGIN:VCALENDAR
VERSION:2.0
PRODID:-//Escoteiros SP - ECPv6.15.20//NONSGML v1.0//EN
CALSCALE:GREGORIAN
METHOD:PUBLISH
X-WR-CALNAME:Escoteiros SP
X-ORIGINAL-URL:https://www.escoteirossp.org.br
X-WR-CALDESC:Eventos para Escoteiros SP
REFRESH-INTERVAL;VALUE=DURATION:PT1H
X-Robots-Tag:noindex
X-PUBLISHED-TTL:PT1H
BEGIN:VTIMEZONE
TZID:America/Sao_Paulo
BEGIN:STANDARD
TZOFFSETFROM:-0300
TZOFFSETTO:-0300
TZNAME:-03
DTSTART:20230101T000000
END:STANDARD
END:VTIMEZONE
BEGIN:VEVENT
DTSTART;TZID=America/Sao_Paulo:20240804T083000
DTEND;TZID=America/Sao_Paulo:20240804T140000
DTSTAMP:20260424T040941
CREATED:20240724T195128Z
LAST-MODIFIED:20240724T195730Z
UID:45022-1722760200-1722780000@www.escoteirossp.org.br
SUMMARY:Gestão na Estrada: Edição Americana
DESCRIPTION:O objetivo é o de crescimento e fortalecimento das Unidades Escoteiras Locais\, estabelecido pela instituição através do esforço humano organizado pela Gestão Regional com a finalidade de aproximação da estrutura regional\, solução de problemas e de ser um facilitador da prática do Escotismo em seu local de atuação. \nAlém disso\, a Gestão na Estrada vai ao encontro dos compromissos assumidos pela Gestão de ter uma atuação verdadeiramente ativa e próxima da realidade das UEL’s e será também uma ferramenta de aplicação do Planejamento Estratégico Nacional. \nOnde\nFATEC Americana – Faculdade de Tecnologia de Americana Ministro Ralph Biasi\nRua Emílio de Menezes\, S/N – Gleba B – Americana\,SP\nComo chegar: https://maps.app.goo.gl/crEcMxBTkdJXChH5A\n \nQuando\nDomingo\, 04 de agosto.\nDas 8h30 às 14h \nQuem pode participar\n• Escotistas e Dirigentes das UELs pertencentes ao 16º DE Jundiaí\, 18º DE Corrente da Paz\, 19º DE Campinas e 23º DE Abaetê\n• Coordenadores e membros das Equipes Distritais do 16º DE Jundiaí\, 18º DE Corrente da Paz\, 19º DE Campinas e 23º DE Abaetê \nConfira todas as informações\nBoletim \nGestão na Estrada: Edição Americana
URL:https://www.escoteirossp.org.br/evento/gestao-na-estrada-edicao-americana/
LOCATION:FATEC Americana\, Rua Emílio de Menezes\, S/N – Gleba B\, Americana\, São Paulo
ATTACH;FMTTYPE=image/png:https://www.escoteirossp.org.br/wp/wp-content/uploads/2023/01/capa-site-1.png
ORGANIZER;CN="Diretoria Regional":MAILTO:eventos.sp@escoteiros.org.br
END:VEVENT
END:VCALENDAR