BEGIN:VCALENDAR
VERSION:2.0
PRODID:-//Escoteiros SP - ECPv6.15.20//NONSGML v1.0//EN
CALSCALE:GREGORIAN
METHOD:PUBLISH
X-WR-CALNAME:Escoteiros SP
X-ORIGINAL-URL:https://www.escoteirossp.org.br
X-WR-CALDESC:Eventos para Escoteiros SP
REFRESH-INTERVAL;VALUE=DURATION:PT1H
X-Robots-Tag:noindex
X-PUBLISHED-TTL:PT1H
BEGIN:VTIMEZONE
TZID:America/Sao_Paulo
BEGIN:STANDARD
TZOFFSETFROM:-0300
TZOFFSETTO:-0300
TZNAME:-03
DTSTART:20220101T000000
END:STANDARD
END:VTIMEZONE
BEGIN:VEVENT
DTSTART;TZID=America/Sao_Paulo:20230604T080000
DTEND;TZID=America/Sao_Paulo:20230604T140000
DTSTAMP:20260424T002806
CREATED:20230524T203924Z
LAST-MODIFIED:20230524T203924Z
UID:41606-1685865600-1685887200@www.escoteirossp.org.br
SUMMARY:Gestão na Estrada: Edição Araçatuba
DESCRIPTION:25° Distrito Escoteiro Bauru\, 30° Distrito Escoteiro Presidente Prudente\, 31° Distrito Escoteiro Araçatuba e 36° Distrito Escoteiro Noroeste Paulista\nO que é o evento?\nO objetivo é o de crescimento e fortalecimento das Unidades Escoteiras Locais\, estabelecido pela instituição através do esforço humano organizado pela Gestão Regional com a finalidade\nde aproximação da estrutura regional\, solução de problemas e de ser um facilitador da prática do Escotismo em seu local de atuação. \nAlém disso\, a Gestão na Estrada vai ao encontro dos compromissos assumidos pela Gestão de ter uma atuação verdadeiramente ativa e próxima da realidade das UEL’s e será também uma ferramenta de aplicação do Planejamento Estratégico Nacional. \nQuem pode participar? \n\nEscotista e Dirigentes das UEL´s pertencentes ao 25° Distrito Escoteiro Bauru\, 30° Distrito Escoteiro Presidente Prudente\, 31° Distrito Escoteiro Araçatuba e ao 36° Distrito Escoteiro Noroeste Paulista.\nCoordenadores e membros de equipes Distritais do 25° DE\, 30° CE\, 31° DE e 36° DE.\n\nTodos os participantes devem possuir registro escoteiro válido\, no dia do evento.\nTodos os distritos serão contemplados conforme calendário 2023/2024. Cada localidade é exclusiva para membros das UELs do distrito especificado acima. \nOnde?\nTeatro Nipo Brasileiro\nRua Antônio Florence\, 235\, Higienópolis – Araçatuba\nComo chegar: https://goo.gl/maps/QT2H95aeexuKfnZH6 \nQuando?\nDia 04 de junho de 2023 (domingo).\nDas 8h30 às 14h. \nQuanto?\nR$ 30\,00 (Trinta reais) – Incluso dois coffee break e o distintivo do evento. \nComo se inscrever?\nExclusivamente via “Meu PAXTU”\, das 0h00 do dia 25 de maio de 2023 até às 23h59 do dia 30 de maio de 2023\, ou até serem preenchidas as vagas. \nConfira todas as informações no boletim:\nBoletim – Gestão na Estrada: Araçatuba \nGestão na Estrada: Edição Araçatuba
URL:https://www.escoteirossp.org.br/evento/gestao-na-estrada-edicao-aracatuba/
LOCATION:Teatro Nipo Brasileiro\, Rua Antônio Florence\, 235\, Higienópolis\, Araçatuba\, São Paulo\, Brasil
CATEGORIES:Encontro
ATTACH;FMTTYPE=image/png:https://www.escoteirossp.org.br/wp/wp-content/uploads/2023/01/capa-site-1.png
END:VEVENT
END:VCALENDAR