BEGIN:VCALENDAR
VERSION:2.0
PRODID:-//Escoteiros SP - ECPv6.15.20//NONSGML v1.0//EN
CALSCALE:GREGORIAN
METHOD:PUBLISH
X-WR-CALNAME:Escoteiros SP
X-ORIGINAL-URL:https://www.escoteirossp.org.br
X-WR-CALDESC:Eventos para Escoteiros SP
REFRESH-INTERVAL;VALUE=DURATION:PT1H
X-Robots-Tag:noindex
X-PUBLISHED-TTL:PT1H
BEGIN:VTIMEZONE
TZID:America/Sao_Paulo
BEGIN:STANDARD
TZOFFSETFROM:-0300
TZOFFSETTO:-0300
TZNAME:-03
DTSTART:20220101T000000
END:STANDARD
END:VTIMEZONE
BEGIN:VEVENT
DTSTART;TZID=America/Sao_Paulo:20230225T080000
DTEND;TZID=America/Sao_Paulo:20230225T160000
DTSTAMP:20260424T002730
CREATED:20230128T151855Z
LAST-MODIFIED:20230128T151855Z
UID:40553-1677312000-1677340800@www.escoteirossp.org.br
SUMMARY:Gestão na Estrada: Edição Santos
DESCRIPTION:13° Distrito Escoteiro Costa da Mata Atlântica e 37° Distrito Escoteiro Costa dos Fortes\nO que é o evento?\nO objetivo é o de crescimento e fortalecimento das Unidades Escoteiras Locais\, estabelecido pela instituição através do esforço humano organizado pela Gestão Regional com a finalidade de aproximação da estrutura regional\, solução de problemas e de ser um facilitador da prática do Escotismo em seu local de atuação. \nAlém disso\, a Gestão na Estrada vai ao encontro dos compromissos assumidos pela Gestão de ter uma atuação verdadeiramente ativa e próxima da realidade das UEL’s e será também uma ferramenta de aplicação do Planejamento Estratégico Nacional. \nQuem pode participar? \n\nEscotista e Dirigentes das UEL´s pertencentes ao 13° Distrito Escoteiro Costa da Mata Atlântica e do 37° Distrito Escoteiro Costa dos Fortes;\nCoordenadores e membros de equipes Distritais do 13° DE e do 37° DE.\n\nTodos os participantes devem possuir registro escoteiro válido\, no dia do evento.\nTodos os distritos serão contemplados conforme calendário 2023/2024. Cada localidade é exclusiva para membros das UELs do distrito especificado acima. \nOnde?\n Universidade Santa Cecília – UNISANTA \nRua Oswaldo Cruz\, 277 – Boqueirão\, Santos – SP\, 11045-907 \nConheça um pouco mais sobre o local do evento em: https://unisanta.br/ \nQuando?\nDia 25 de fevereiro de 2023 (sábado).\nInício às 8h e encerramento às 16h. \nQuanto?\nR$ 30\,00 (Trinta reais) – Incluso dois coffee break e o distintivo do evento. \nComo se inscrever?\nExclusivamente via “Meu PAXTU”\, das 0h do dia 28 de janeiro de 2023 até às 23h59 do dia 17 de fevereiro de 2023\, ou até serem preenchidas as vagas. \nConfira todas as informações no boletim:\nBoletim Gestão na Estrada: Edição Santos \n\n  \nGestão na Estrada: Edição Santos
URL:https://www.escoteirossp.org.br/evento/gestao-na-estrada-edicao-santos/
LOCATION:Universidade Santa Cecília – UNISANTA\, R. Oswaldo Cruz\, 277 - Boqueirão\, Santos\, São Paulo\, 11045-907\, Brasil
CATEGORIES:Dirigente,Escotista
ATTACH;FMTTYPE=image/png:https://www.escoteirossp.org.br/wp/wp-content/uploads/2023/01/capa-site-1.png
ORGANIZER;CN="Diretoria Regional":MAILTO:eventos.sp@escoteiros.org.br
END:VEVENT
END:VCALENDAR