BEGIN:VCALENDAR
VERSION:2.0
PRODID:-//Escoteiros SP - ECPv6.15.20//NONSGML v1.0//EN
CALSCALE:GREGORIAN
METHOD:PUBLISH
X-WR-CALNAME:Escoteiros SP
X-ORIGINAL-URL:https://www.escoteirossp.org.br
X-WR-CALDESC:Eventos para Escoteiros SP
REFRESH-INTERVAL;VALUE=DURATION:PT1H
X-Robots-Tag:noindex
X-PUBLISHED-TTL:PT1H
BEGIN:VTIMEZONE
TZID:America/Sao_Paulo
BEGIN:STANDARD
TZOFFSETFROM:-0300
TZOFFSETTO:-0300
TZNAME:-03
DTSTART:20230101T000000
END:STANDARD
END:VTIMEZONE
BEGIN:VEVENT
DTSTART;TZID=America/Sao_Paulo:20240225T083000
DTEND;TZID=America/Sao_Paulo:20240225T140000
DTSTAMP:20260423T180502
CREATED:20240209T163240Z
LAST-MODIFIED:20240209T163240Z
UID:43868-1708849800-1708869600@www.escoteirossp.org.br
SUMMARY:Gestão na Estrada: Edição São José dos Campos
DESCRIPTION:32o DE São José dos Campos\, 33o DE Litoral Norte 35o DE Monteiro Lobato\, 38o DE Rio Paraíba do Sul \nO objetivo é o de crescimento e fortalecimento das Unidades Escoteiras Locais\, estabelecido pela instituição através do esforço humano organizado pela Gestão Regional com a finalidade de aproximação da estrutura regional\, solução de problemas e de ser um facilitador da prática do Escotismo em seu local de atuação.\nAlém disso\, a Gestão na Estrada vai ao encontro dos compromissos assumidos pela Gestão de ter uma atuação verdadeiramente ativa e próxima da realidade das UEL’s e será também uma ferramenta de aplicação do Planejamento Estratégico Nacional. \nOnde\nFATEC São José dos Campos – Prof. Jessen Vidal\nAvenida Cesare Monsueto Giulio Lattes\, 1350 – Distrito Eugênio de Melo\nSão José dos Campos/SP \nLink do Maps: https://maps.app.goLinkko.gl/r7WCAnixTPMVigd89 \nQuando\nDomingo\, 25 de fevereiro.\nDas 8h30 às 14h\n \nComo se Inscrever\nExclusivamente via “Meu PAXTU”\, das 0h01 do dia 08 de fevereiro de 2024 até às 23h59 do\ndia 20 de fevereiro de 2024\, ou até serem preenchidas as vagas. \nConfira todas as informações:\nBoletim \nGestão na Estrada: Edição São José dos Campos
URL:https://www.escoteirossp.org.br/evento/gestao-na-estrada-edicao-sao-jose-dos-campos/
LOCATION:FATEC São José dos Campos – Prof. Jessen Vidal\, Avenida Cesare Monsueto Giulio Lattes\, 1350\, São José dos Campos / SP
ATTACH;FMTTYPE=image/png:https://www.escoteirossp.org.br/wp/wp-content/uploads/2023/01/capa-site-1.png
ORGANIZER;CN="Diretoria Regional":MAILTO:eventos.sp@escoteiros.org.br
END:VEVENT
END:VCALENDAR