BEGIN:VCALENDAR
VERSION:2.0
PRODID:-//Escoteiros SP - ECPv6.15.20//NONSGML v1.0//EN
CALSCALE:GREGORIAN
METHOD:PUBLISH
X-WR-CALNAME:Escoteiros SP
X-ORIGINAL-URL:https://www.escoteirossp.org.br
X-WR-CALDESC:Eventos para Escoteiros SP
REFRESH-INTERVAL;VALUE=DURATION:PT1H
X-Robots-Tag:noindex
X-PUBLISHED-TTL:PT1H
BEGIN:VTIMEZONE
TZID:America/Sao_Paulo
BEGIN:STANDARD
TZOFFSETFROM:-0300
TZOFFSETTO:-0300
TZNAME:-03
DTSTART:20220101T000000
END:STANDARD
END:VTIMEZONE
BEGIN:VEVENT
DTSTART;TZID=America/Sao_Paulo:20230917T083000
DTEND;TZID=America/Sao_Paulo:20230917T140000
DTSTAMP:20260424T023759
CREATED:20230815T144845Z
LAST-MODIFIED:20230815T150511Z
UID:42377-1694939400-1694959200@www.escoteirossp.org.br
SUMMARY:Gestão na Estrada: Edição Sorocaba
DESCRIPTION:20° DE Sorocaba\, 21º DE Rota dos Bandeirantes\, 22º DE Sudoeste Paulista e 40º DE Lis do Interior \nO que é o evento\nO objetivo é o de crescimento e fortalecimento das Unidades Escoteiras Locais\, estabelecido pela instituição através do esforço humano organizado pela Gestão Regional com a finalidade\nde aproximação da estrutura regional\, solução de problemas e de ser um facilitador da prática do Escotismo em seu local de atuação. \nAlém disso\, a Gestão na Estrada vai ao encontro dos compromissos assumidos pela Gestão de ter uma atuação verdadeiramente ativa e próxima da realidade das UEL’s e será também uma ferramenta de aplicação do Planejamento Estratégico Nacional. \nQuem pode participar \n• Escotistas e Dirigentes das UELs pertencentes ao 20° DE Sorocaba\, 21º DE Rota dos Bandeirantes\, 22º DE Sudoeste Paulista e 40º DE Lis do Interior.\n• Coordenadores e membros das Equipes Distritais do 20° DE\, 21º DE\, 22º DE e 40º DE. \nTodos os participantes devem possuir registro escoteiro válido\, no dia do evento. \nTodos os distritos serão contemplados conforme calendário 2023/2024. Cada localidade é exclusiva para membros das UELs do distrito especificado acima. \nOnde\nNúcleo ETC – UFSCar Sorocaba\nRua Maria Cinto de Biagi\, 130.\nJardim Santa Rosália – Sorocaba – SP \nQuando\nDia 17 de setembro (domingo).\nDas 8h30 às 14h. \nQuanto\nR$ 30\,00 (Trinta reais) – Incluso dois coffee break e o distintivo do evento\n \nComo se inscrever\nExclusivamente via “Meu PAXTU”\, das 0h01 do dia 09 de agosto de 2023 até às 23h59 do dia 31 de agosto de 2023\, ou até serem preenchidas as vagas. \nConfira todas as informações no boletim: \nBoletim – Gestão na Estrada: Sorocaba \n  \nGestão na Estrada: Edição Sorocaba
URL:https://www.escoteirossp.org.br/evento/gestao-na-estrada-edicao-sorocaba/
LOCATION:Núcleo ETC – UFSCar Sorocaba\, Rua Maria Cinto de Biagi\, 130\, Jardim Santa Rosália\, Sorocaba\, São Paulo\, 18095-410\, Brasil
ATTACH;FMTTYPE=image/png:https://www.escoteirossp.org.br/wp/wp-content/uploads/2023/01/capa-site-1.png
END:VEVENT
END:VCALENDAR