BEGIN:VCALENDAR
VERSION:2.0
PRODID:-//Escoteiros SP - ECPv6.15.20//NONSGML v1.0//EN
CALSCALE:GREGORIAN
METHOD:PUBLISH
X-WR-CALNAME:Escoteiros SP
X-ORIGINAL-URL:https://www.escoteirossp.org.br
X-WR-CALDESC:Eventos para Escoteiros SP
REFRESH-INTERVAL;VALUE=DURATION:PT1H
X-Robots-Tag:noindex
X-PUBLISHED-TTL:PT1H
BEGIN:VTIMEZONE
TZID:America/Sao_Paulo
BEGIN:STANDARD
TZOFFSETFROM:-0300
TZOFFSETTO:-0300
TZNAME:-03
DTSTART:20230101T000000
END:STANDARD
END:VTIMEZONE
BEGIN:VEVENT
DTSTART;TZID=America/Sao_Paulo:20240505T083000
DTEND;TZID=America/Sao_Paulo:20240505T140000
DTSTAMP:20260424T002921
CREATED:20240420T153705Z
LAST-MODIFIED:20240420T153705Z
UID:44445-1714897800-1714917600@www.escoteirossp.org.br
SUMMARY:Gestão na Estrada: Edição Vila Alpina
DESCRIPTION:O objetivo é o de crescimento e fortalecimento das Unidades Escoteiras Locais\, estabelecido pela instituição através do esforço humano organizado pela Gestão Regional com a finalidade de aproximação da estrutura regional\, solução de problemas e de ser um facilitador da prática do Escotismo em seu local de atuação. \nAlém disso\, a Gestão na Estrada vai ao encontro dos compromissos assumidos pela Gestão de ter uma atuação verdadeiramente ativa e próxima da realidade das UEL’s e será também uma ferramenta de aplicação do Planejamento Estratégico Nacional. \nOnde\nCEU Vila Alpina\nRua João Pedro Lecór\, 144 – Vila Alpina – São Paulo/SP\nComo chegar: https://maps.app.goo.gl/CfRyQKHccp8mvi818 \nQuando\nDomingo\, 05 de maio.\nDas 8h30 às 14h\n \nQuem pode participar \n\nEscotistas e Dirigentes das UELs pertencentes ao 04º DE Aricanduva\, 06º DE Parque do Carmo\, 07º DE Guarulhos e Região\, 15º DE Alto Tietê\nCoordenadores e membros das Equipes Distritais do 04º DE Aricanduva\, 06º DE Parque do Carmo\, 07º DE Guarulhos e Região\, 15º DE Alto Tietê\n\n\nConfira todas as informações\nBoletim \nGestão na Estrada: Edição Vila Alpina
URL:https://www.escoteirossp.org.br/evento/gestao-na-estrada-edicao-vila-alpina/
LOCATION:CEU Vila Alpina\, Rua João Pedro Lecór\, 144 – Vila Alpina\, São Paulo\, São Paulo\, Brasil
CATEGORIES:Encontro
ATTACH;FMTTYPE=image/png:https://www.escoteirossp.org.br/wp/wp-content/uploads/2023/01/capa-site-1.png
ORGANIZER;CN="Diretoria Regional":MAILTO:eventos.sp@escoteiros.org.br
END:VEVENT
END:VCALENDAR