BEGIN:VCALENDAR
VERSION:2.0
PRODID:-//Escoteiros SP - ECPv6.15.20//NONSGML v1.0//EN
CALSCALE:GREGORIAN
METHOD:PUBLISH
X-WR-CALNAME:Escoteiros SP
X-ORIGINAL-URL:https://www.escoteirossp.org.br
X-WR-CALDESC:Eventos para Escoteiros SP
REFRESH-INTERVAL;VALUE=DURATION:PT1H
X-Robots-Tag:noindex
X-PUBLISHED-TTL:PT1H
BEGIN:VTIMEZONE
TZID:America/Sao_Paulo
BEGIN:STANDARD
TZOFFSETFROM:-0300
TZOFFSETTO:-0300
TZNAME:-03
DTSTART:20230101T000000
END:STANDARD
END:VTIMEZONE
BEGIN:VEVENT
DTSTART;TZID=America/Sao_Paulo:20241208T090000
DTEND;TZID=America/Sao_Paulo:20241208T143000
DTSTAMP:20260424T091346
CREATED:20241105T132021Z
LAST-MODIFIED:20241105T134151Z
UID:45829-1733648400-1733668200@www.escoteirossp.org.br
SUMMARY:Gestão na Estrada: Edição Vila Mariana
DESCRIPTION:O objetivo é o de crescimento e fortalecimento das Unidades Escoteiras Locais\, estabelecido pela instituição através do esforço humano organizado pela Gestão Regional com a finalidade de aproximação da estrutura regional\, solução de problemas e de ser um facilitador da prática do Escotismo em seu local de atuação. \nAlém disso\, a Gestão na Estrada vai ao encontro dos compromissos assumidos pela Gestão de ter uma atuação verdadeiramente ativa e próxima da realidade das UEL’s e será também uma ferramenta de aplicação do Planejamento Estratégico Nacional. \nOnde\nEscola Estadual Major Arcy\nRua Dr. José de Queirós Aranha\, 451 – Vila Mariana\nSão Paulo – SP\, 04106-060\nComo chegar: https://maps.app.goo.gl/DeE3KEW9UYX59zgB8 \nQuando\nDomingo\, 08 de dezembro.\nDas 9h às 14h30 \nQuem pode participar \n\nEscotistas e Dirigentes das UELs pertencentes ao 1º DE São Paulo Centro\, 5º DE Santana e 11º DE São Caetano do Sul.\nCoordenadores e membros das Equipes Distritais do 1º DE São Paulo Centro\, 5º DE Santana e 11º DE São Caetano do Sul.\n\nConfira todas as informações\nBoletim \nGestão na Estrada: Edição Vila Mariana
URL:https://www.escoteirossp.org.br/evento/gestao-na-estrada-edicao-vila-mariana/
LOCATION:Escola Estadual Major Arcy\, Rua Dr. José de Queirós Aranha\, 451 – Vila Mariana\, São Paulo\, SP\, 04106-060\, Brazil
CATEGORIES:Encontro
ATTACH;FMTTYPE=image/png:https://www.escoteirossp.org.br/wp/wp-content/uploads/2023/01/capa-site-1.png
ORGANIZER;CN="Diretoria Regional":MAILTO:eventos.sp@escoteiros.org.br
END:VEVENT
END:VCALENDAR