BEGIN:VCALENDAR
VERSION:2.0
PRODID:-//Escoteiros SP - ECPv6.15.20//NONSGML v1.0//EN
CALSCALE:GREGORIAN
METHOD:PUBLISH
X-WR-CALNAME:Escoteiros SP
X-ORIGINAL-URL:https://www.escoteirossp.org.br
X-WR-CALDESC:Eventos para Escoteiros SP
REFRESH-INTERVAL;VALUE=DURATION:PT1H
X-Robots-Tag:noindex
X-PUBLISHED-TTL:PT1H
BEGIN:VTIMEZONE
TZID:America/Sao_Paulo
BEGIN:STANDARD
TZOFFSETFROM:-0300
TZOFFSETTO:-0300
TZNAME:-03
DTSTART:20230101T000000
END:STANDARD
END:VTIMEZONE
BEGIN:VEVENT
DTSTART;TZID=America/Sao_Paulo:20240204T080000
DTEND;TZID=America/Sao_Paulo:20240204T180000
DTSTAMP:20260423T181212
CREATED:20240118T150027Z
LAST-MODIFIED:20240119T123936Z
UID:43515-1707033600-1707069600@www.escoteirossp.org.br
SUMMARY:Indaba de Mestres 2024
DESCRIPTION:O que é o evento?\nÉ um momento de escuta ativa em que escotistas do Ramo Pioneiro participam de oficinas e debates relacionados ao Programa Educativo\, trocando experiências com voluntários de todo o estado. \nQuando?\nDomingo\, 04 de fevereiro de 2024. \nOnde?\nCentro de Atividades Professora Maria Braz (SESI Campinas I Amoreiras)\nAvenida das Amoreiras\, 450 – Parque Itália – Campinas – SP\nhttps://maps.app.goo.gl/uPiPRwR8LcXbdkgs8 \nQuem pode participar?\nEscotistas do Ramo Pioneiro e Dirigentes\, com Registro Escoteiro válido. \nComo se inscrever?\nExclusivamente via Meu PAXTU\, na área de Eventos\, da 0h01 do dia 18 de janeiro de 2023 até às 23h59min do dia 28 de janeiro de 2024\, ou até serem preenchidas todas as vagas. \nLimite de vagas\n100 (cem) vagas \nQuanto?\nR$ 60\,00 \nComposição da Taxa\nAlimentação – 32%\nMateriais – 25%\nApoio palestrante – 8%\nCrachás – 8%\nDistintivos – 8%\nLimpeza – 7%\nTaxa ADM – 7%\nContingência – 5% \nPagamentos\, Lista de Espera e cancelamento\n1. Após ter concluído o processo de inscrição pelo sistema SIGUE/PAXTU\, o inscrito deve efetuar a impressão do boleto para pagamento até a data de vencimento. É de responsabilidade do próprio associado acompanhar a emissão do boleto. Não será enviado boleto via e-mail. \n2. Não haverá emissão de nova via de boleto bancário em caso de não pagamento após a data de vencimento. \n3. A data-limite para solicitação de cancelamento da inscrição é o dia seguinte à data de término das inscrições. \n4. No caso de a inscrição ser cancelada dentro do prazo estabelecido para cancelamento\, o valor pago da taxa de inscrição será devolvido parcialmente (serão retidos R$ 20\,00 pelos custos já comprometidos na data do cancelamento). Após o prazo estabelecido para cancelamento\, não haverá devolução do valor pago da taxa de inscrição. \n5. As inscrições com boletos vencidos serão automaticamente canceladas 2 (dois) dias após a data de vencimento. \nInformações Complementares  \n\nOs certificados de participação serão emitidos em até 15 dias após a conclusão\nNão serão permitidas transferências de inscrições.\n\nAlimentação\nO almoço será por conta de cada participante.\nNas proximidades do local do evento há opções de restaurantes/lanchonetes \nEstacionamento e acesso\nO local não possui estacionamento\, mas tem vagas seguras nas ruas ao lado da escola. \nTransporte\nO transporte até o local do evento será por conta de cada participante. \nPernoite e alojamento\nO alojamento está confirmado. Mais informações no Boletim 2. \nAdequação às regras e condutas\nO evento seguirá de forma integral as definições dos Princípios\, Organização e Regras (P.O.R.) da União dos Escoteiros do Brasil. Condutas desrespeitosas para com outros jovens\, escotistas\, equipe de serviço ou qualquer outra pessoa presente no evento não serão toleradas. \nInformações gerais\nDúvidas sobre programa do evento\nEscritório Regional de São Paulo dos Escoteiros do Brasil – Programa Educativo\nE-mail: programa.sp@escoteiros.org.br \nDúvidas sobre inscrições do evento\, boleto e devoluções\nEscritório Regional de São Paulo dos Escoteiros do Brasil – Eventos\nE-mail: eventos.sp@escoteiros.org.br \nInformar no assunto do e-mail o nome do evento e o assunto a que se refere e no corpo do e-mail\, informar nome do evento\, tema\, nome completo\, UEL\, número do registro e telefone para contato. \nLuciana Timoszczuk e Márcia Vieira\nDiretoria Regional de Métodos Educativos \nJorge Czarnotta\nCoord. de Programa Educativo – Ramo Pioneiro \nIndaba de Mestres 2024
URL:https://www.escoteirossp.org.br/evento/indaba-de-mestres-2024/
LOCATION:Centro de Atividades Professora Maria Braz (SESI Campinas I Amoreiras)\, Avenida das Amoreiras\, 450\, Campinas\, São Paulo\, 13030-971\, Brasil
ATTACH;FMTTYPE=image/png:https://www.escoteirossp.org.br/wp/wp-content/uploads/2024/01/indaba_mestres.png
ORGANIZER;CN="Coordena%C3%A7%C3%A3o Regional do Ramo Pioneiro":MAILTO:ramopioneiro.sp@escoteiros.org.br
END:VEVENT
END:VCALENDAR