BEGIN:VCALENDAR
VERSION:2.0
PRODID:-//Escoteiros SP - ECPv6.15.20//NONSGML v1.0//EN
CALSCALE:GREGORIAN
METHOD:PUBLISH
X-WR-CALNAME:Escoteiros SP
X-ORIGINAL-URL:https://www.escoteirossp.org.br
X-WR-CALDESC:Eventos para Escoteiros SP
REFRESH-INTERVAL;VALUE=DURATION:PT1H
X-Robots-Tag:noindex
X-PUBLISHED-TTL:PT1H
BEGIN:VTIMEZONE
TZID:America/Sao_Paulo
BEGIN:STANDARD
TZOFFSETFROM:-0300
TZOFFSETTO:-0300
TZNAME:-03
DTSTART:20200101T000000
END:STANDARD
END:VTIMEZONE
BEGIN:VEVENT
DTSTART;TZID=America/Sao_Paulo:20210717T080000
DTEND;TZID=America/Sao_Paulo:20210718T180000
DTSTAMP:20260423T162019
CREATED:20210616T213755Z
LAST-MODIFIED:20210616T214248Z
UID:35720-1626508800-1626631200@www.escoteirossp.org.br
SUMMARY:Indaba Regional dos Ramos - 2021
DESCRIPTION:O que é o evento?\nÉ um momento de escuta ativa em que escotistas de todos os ramos discutirão tópicos relacionados à revisão do programa educativo. \nO porquê do evento?\nA atividade é uma oportunidade para que os escotistas sejam ouvidos e possam discutir suas percepções e o que esperam do Novo Programa Educativo. \nQuando?\n\n17 e 18 de Julho de 2021.\n\nOnde?\nOn-line\, com abertura e encerramento pelo YouTube\, além de reuniões distritais no Google Meet. \nA sala a ser utilizada por cada distrito será a mesma em todos os períodos\, ou seja\, para todos os Ramos e seu link será disponibilizado aos comissários e coordenadores distritais previamente. \nQuem pode participar?\nUm escotista de cada ramo por UEL\, devidamente indicado pelo Diretor Presidente da UEL (Grupo Escoteiro) ou Chefe de Seção (no caso de Seção Autônoma).  \nComo se inscrever?\nO Diretor Presidente da UEL deverá inscrever os participantes exclusivamente via PAXTU ADM\, na área de Eventos\, da 00h do 15 de junho de 2021 até às 23h59 do 02 de julho de 2021. \nCapacitação Prévia\nPara o sucesso do evento\, será necessária uma capacitação prévia dos Coordenadores Distritais\, pois eles irão conduzir uma parte importante da atividade. Para isso teremos A MESMA CAPACITAÇÃO em horários e dias alternados para que todos os coordenadores consigam participar e estarem cientes de suas atribuições. \nCaso o Coordenador não consiga participar\, seja da capacitação ou da atividade\, deverá indicar um adjunto ou representante\, com o consentimento do Comissário\, para representá-lo neste evento (e apresentá-lo ao coordenador regional do seu ramo respectivo no e-mail indicado no fim do boletim). \n  \nAs datas da Capacitação serão:  \n06/07(terça feira) à partir das 20hr \n09/07(sexta feira) à partir das 20hr \n11/07(domingo) à partir das 10hr \n  \nLembrando que só é necessária a presença em apenas UM dos três horários disponíveis. \n  \nLimite de vagas\n1 Escotista por Ramo por UEL. Sendo no máximo 4 por UEL (se a UEL não conta com todos os ramos\, só poderá indicar escotistas para os ramos no qual tem seções)  \nA inscrição será feita pelo Diretor Presidente no Paxtu Adm. \nQuanto?\nEvento Gratuito \nPrograma Previsto (sujeito a alterações sem aviso prévio)\n09h às 09h45 de 17/07- Abertura do evento  \n\nRamo Pioneiro: das 10h às 12hr de 17/07\n\n\nRamo Sênior: das 17h-19hr de 17/07\n\n\nRamo Escoteiro: das 10h às 12hr de 18/07\n\n\nRamo Lobinho: das 15h às 17hr de 18/07\n\n17h30 às 18h – Encerramento do Evento  \nAplicativos\n\nYouTube\nGoogle Meet\n\nMateriais necessários \n\nComputador\, tablet ou celular com acesso à internet e aos aplicativos Google Meet e Youtube. De maneira geral\, os serviços virtuais funcionam de maneira mais fluída em computadores e notebooks\, por isso indicamos o uso destes aparelhos.\n\nCertificado\nO certificado estrá disponível no Paxtu após o evento. \nDivulgação do Evento \nTodo associado\, devidamente registrado\, autoriza a União dos Escoteiros do Brasil\, EM TODOS OS SEUS NÍVEIS\, sociedade civil sem fins lucrativos\, declarada de Utilidade Pública Federal\, inscrita no CNPJ/ MF sob o nº 33.788.431/0001-13\, com sede na Rua Coronel Dulcídio\, bairro Água Verde\, Curitiba – PR\, CEP 80.250-100\, a utilizar-se das suas imagens e voz\, ou daquele que representa ou assiste\, captadas durante atividades escoteiras\, ou a elas relacionadas\, para a edição de filmes e fotos divulgando o Movimento Escoteiro e materiais educativos\, conforme previsto no artigo 42°\, parágrafo 11\, do Estatuto da UEB.  \nAdequação às regras e condutas\nO evento seguirá de forma integral com as definições do “Princípios\, Organização e Regras (P.O.R.)” da União dos Escoteiros do Brasil. Condutas desrespeitosas para com outros jovens\, escotistas\, equipe de serviço ou qualquer outra pessoa presente no evento não serão toleradas. \nProcedimentos não previstos\nA organização do evento decidirá quanto aos procedimentos não previstos no presente documento ou qualquer outra excepcionalidade. \n  \nRealização\nCoordenação Regional de Programa Educativo  \nE-mail: programa.educativo@escoteirossp.org.br \nCoordenação Regional do Ramo Lobinho \nE-mail: ramo.lobinho@escoteirossp.org.br \nCoordenação Regional do Ramo Escoteiro \nE-mail: ramo.escoteiro@escoteirossp.org.br \nCoordenação Regional do Ramo Sênior \nE-mail: ramo.senior@escoteirossp.org.br \nCoordenação Regional do Ramo Pioneiro \nE-mail: ramo.pioneiro@escoteirossp.org.br \n  \nInformações Gerais\nCoordenação do evento \nCoordenação Regional de Eventos Estratégicos  \nE-mail: gestao.eventos@escoteirossp.org.br    \nDúvidas sobre o programa do evento\nEscritório Regional de São Paulo dos Escoteiros do Brasil – Programa Educativo \nE-mail: programa@escoteirossp.org.br \nTel.: (11) 3154-5500 Ramal 4 \nDúvidas sobre inscrições do evento\nEscritório Regional de São Paulo dos Escoteiros do Brasil – Eventos \nE-mail: eventos@escoteirossp.org.br \nTel.: (11) 3154-5500 Ramal 2 \n  \nAcompanhe as novidades do evento pelo site www.escoteirossp.org.br e pela página no Facebook Escoteiros SP. \n  \nIngrid Foresto \nCoordenação Regional de Eventos Estratégicos                         \nMariana De Marchi \nCoordenação do evento \nGabriela Banzatto \nCoordenação do evento \nIndaba Regional dos Ramos – 2021
URL:https://www.escoteirossp.org.br/evento/indaba-regional-dos-ramos-2021/
LOCATION:Online
CATEGORIES:Dirigente,Escotista
ATTACH;FMTTYPE=image/jpeg:https://www.escoteirossp.org.br/wp/wp-content/uploads/2019/05/20190519163124_IMG_6730.jpg
END:VEVENT
END:VCALENDAR