BEGIN:VCALENDAR
VERSION:2.0
PRODID:-//Escoteiros SP - ECPv6.15.20//NONSGML v1.0//EN
CALSCALE:GREGORIAN
METHOD:PUBLISH
X-WR-CALNAME:Escoteiros SP
X-ORIGINAL-URL:https://www.escoteirossp.org.br
X-WR-CALDESC:Eventos para Escoteiros SP
REFRESH-INTERVAL;VALUE=DURATION:PT1H
X-Robots-Tag:noindex
X-PUBLISHED-TTL:PT1H
BEGIN:VTIMEZONE
TZID:America/Sao_Paulo
BEGIN:STANDARD
TZOFFSETFROM:-0300
TZOFFSETTO:-0300
TZNAME:-03
DTSTART:20240101T000000
END:STANDARD
END:VTIMEZONE
BEGIN:VEVENT
DTSTART;TZID=America/Sao_Paulo:20250125T080000
DTEND;TZID=America/Sao_Paulo:20250126T180000
DTSTAMP:20260424T054640
CREATED:20241212T202651Z
LAST-MODIFIED:20250114T221438Z
UID:46175-1737792000-1737914400@www.escoteirossp.org.br
SUMMARY:Indabas e Erere Regional 2025
DESCRIPTION:Os Indabas e ERERE (Encontro Regional de Escotistas do Ramo Escoteiro) serão um grande encontro de Escotistas e Dirigentes interessados em aumentar seu conhecimento e atualizar práticas\, ampliar o repertório de recursos didáticos\, despertar novas ideias para atividades e promover reflexões para uma melhor compreensão do Movimento Escoteiro. \nQuando\nIndabas: Dirigente\, Ramo Lobinho\, Modalidade do Ar e Modalidade do Mar\n25 de janeiro de 2025\, sábado \nIndabas: Sênior\, Mestres\, Radioescotismo e ERERE\n26 de janeiro de 2025\, domingo \nCheck-in: das 08h às 08h50\nEvento: das 9h às 18h \nOnde – Fique atento ao novo endereço \nUSCS – Universidade Municipal de São Caetano do Sul – Campus Barcelona\nAv. Goiás\, 3400 – Bairro Barcelona\, São Caetano do Sul – SP\, CEP: 09521-310 \nComo chegar: https://maps.app.goo.gl/MGQ5Xq8GaooRdJ3d9 \nComo se inscrever\nExclusivamente via Meu PAXTU\, na área de Eventos\, da 00h01 do dia 12 de dezembro de 2024 até às 23h59min do dia 16 de janeiro de 2025 ou até serem preenchidas todas as vagas. \nBoletim 1\n \nBoletim 2 \nIndabas e Erere Regional 2025
URL:https://www.escoteirossp.org.br/evento/indabas-e-erere-regional-2025/
LOCATION:Universidade Municipal de São Caetano do Sul (Campus Barcelona)\, Avenida Goiás\, Nº 3.400\, São Caetano do Sul - SP
CATEGORIES:Encontro
ATTACH;FMTTYPE=image/png:https://www.escoteirossp.org.br/wp/wp-content/uploads/2024/12/capasite-1.png
ORGANIZER;CN="Diretoria Regional de M%C3%A9todos Educativos - Programa Educativo":MAILTO:programa.sp@escoteiros.org.br
END:VEVENT
END:VCALENDAR