BEGIN:VCALENDAR
VERSION:2.0
PRODID:-//Escoteiros SP - ECPv6.15.20//NONSGML v1.0//EN
CALSCALE:GREGORIAN
METHOD:PUBLISH
X-WR-CALNAME:Escoteiros SP
X-ORIGINAL-URL:https://www.escoteirossp.org.br
X-WR-CALDESC:Eventos para Escoteiros SP
REFRESH-INTERVAL;VALUE=DURATION:PT1H
X-Robots-Tag:noindex
X-PUBLISHED-TTL:PT1H
BEGIN:VTIMEZONE
TZID:America/Sao_Paulo
BEGIN:STANDARD
TZOFFSETFROM:-0300
TZOFFSETTO:-0300
TZNAME:-03
DTSTART:20240101T000000
END:STANDARD
END:VTIMEZONE
BEGIN:VEVENT
DTSTART;VALUE=DATE:20250712
DTEND;VALUE=DATE:20250714
DTSTAMP:20260423T172055
CREATED:20250228T205104Z
LAST-MODIFIED:20250603T172912Z
UID:46797-1752278400-1752451199@www.escoteirossp.org.br
SUMMARY:Interclãs 2025 - Contos de Avalon
DESCRIPTION:Interclãs é um evento centralizado que tem a proposta de realizar atividades que promovam a integração e fraternidade entre os jovens de acordo com o programa educativo.\nEsse ano o evento acontecerá na capital de São Paulo\, em regime de acantonamento. Os jovens estão convidados a viverem um personagem fictício criado por eles mesmos\, os quais estarão em\num contexto Medieval Fantasia (com seres místicos como fadas e dragões) no sistema de RPG (Jogo de interpretar papéis)\, sendo esse o enredo do Interclãs 2025. \nQuando\nSábado e domingo\, 12 e 13 de julho de 2025. \nOnde\nSede do 62º Grupo Escoteiro Guarapiranga.\nTravessa Maestro Massaino\, s/n – Estância Tangará\, São Paulo/SP –  CEDESP Clube da Turma\nComo chegar\nhttps://maps.app.goo.gl/FUVs3ijFYzkj2nbn6 \nComo se inscrever\nExclusivamente via Meu PAXTU\, na área de Eventos\, de 28 de fevereiro de 2025 até 29 de junho de 2025\, ou até serem preenchidas todas as vagas.\n \nQuanto\nJovens: R$ 210\,00\nJovens isentos: R$ 52\,50\nEscotistas: R$ 147\,00\nStaff (Equipe de Serviço): R$ 125\,00\n \nConfira todas as informações:\nBoletim \nBoletim 2 \n  \nInterclãs 2025 – Contos de Avalon
URL:https://www.escoteirossp.org.br/evento/interclas-2025-contos-de-avalon/
LOCATION:Sede do 62º Grupo Escoteiro Guarapiranga\, Travessa Maestro Massaino\, s/n – Estância Tangará\, São Paulo
CATEGORIES:Acantonamento,Encontro,Ramo Pioneiro
ATTACH;FMTTYPE=image/png:https://www.escoteirossp.org.br/wp/wp-content/uploads/2025/02/Prancheta-2.png
ORGANIZER;CN="Diretoria Regional de M%C3%A9todos Educativos":MAILTO:metodos.sp@escoteiros.org.br
END:VEVENT
END:VCALENDAR