BEGIN:VCALENDAR
VERSION:2.0
PRODID:-//Escoteiros SP - ECPv6.15.20//NONSGML v1.0//EN
CALSCALE:GREGORIAN
METHOD:PUBLISH
X-WR-CALNAME:Escoteiros SP
X-ORIGINAL-URL:https://www.escoteirossp.org.br
X-WR-CALDESC:Eventos para Escoteiros SP
REFRESH-INTERVAL;VALUE=DURATION:PT1H
X-Robots-Tag:noindex
X-PUBLISHED-TTL:PT1H
BEGIN:VTIMEZONE
TZID:America/Sao_Paulo
BEGIN:STANDARD
TZOFFSETFROM:-0200
TZOFFSETTO:-0300
TZNAME:-03
DTSTART:20190217T020000
END:STANDARD
END:VTIMEZONE
BEGIN:VEVENT
DTSTART;TZID=America/Sao_Paulo:20201209T190000
DTEND;TZID=America/Sao_Paulo:20201209T210000
DTSTAMP:20260423T160043
CREATED:20201130T132441Z
LAST-MODIFIED:20201202T210411Z
UID:32303-1607540400-1607547600@www.escoteirossp.org.br
SUMMARY:Jornada do Amanhã
DESCRIPTION:A transformação digital já está acontecendo no mundo inteiro e agora ela chegou aos Escoteiros do Brasil – Região de São Paulo para ficar.\nDurante os últimos meses\, os adultos voluntários do Movimento Escoteiro tiveram que adotar novas técnicas e tecnologias para conseguir driblar os desafios impostos pelo distanciamento social\, em um contexto mundial inédito\, gerando experiências completamente inovadoras. Além disso\, precisaram oferecer esses recursos para jovens que\, muitas vezes\, até tinham mais familiaridade com a tecnologia\, o que proporcionou trocas e estímulos ainda maiores. \nComo o mundo ainda em pandemia\, percebe-se uma necessidade cada vez maior de utilizar a tecnologia de forma mais organizada e personalizada para manter o Escotismo vivo no estado de São Paulo. Por isso\, a Região Escoteira de São Paulo e os parceiros Seppo e Midiacode lançam a Jornada do Amanhã\, uma capacitação para que os adultos voluntários escoteiros compreendam a transformação digital e saibam colocá-la em prática dentro do Movimento Escoteiro sem que ele perca sua essência. \nA Jornada do Amanhã é um evento para que o Escotismo paulista se prepare para um 2021 melhor do que o ano que passamos. Alinhar a transformação digital com os preceitos básicos do Movimento Escoteiro\, como trabalho em equipe\, autonomia\, desenvolvimento pessoal e até mesmo contato com a natureza\, é uma missão de todos. \nO programa previsto da formação contempla os seguintes temas:\n– Tecnologia e Educação: um panorama global da educação digital.\n– Inovação e tecnologia no Escotismo: o que a Região Escoteira de São Paulo traz para seus associados.\n– Gamificação no Escotismo: um jogo de longa história\n– Gamificação 2.0: práticas de gamificação no Escotismo. \nNovidade  \nAlém disso\, a capacitação também terá um momento especial para tratar do novo aplicativo da Região Escoteira de São Paulo\, explorando suas funcionalidades e ensinando os escotistas e dirigentes a montarem jogos dentro do próprio app – um recurso premium cuja utilização por um ano já está inclusa na taxa de inscrição de R$ 21\,00 da Jornada do Amanhã. \nO novo app escoteiro estará disponível gratuitamente em breve a todos os associados\, que poderão obter informações sobre o Escotismo em SP na palma da mão. O lançamento do app será no dia 7 (segunda-feira)\, em nosso Facebook e Youtube. Participe! \nO que o app oferece? (versão free)\n– Informações institucionais dos Escoteiros do Brasil – Região de São Paulo;\n– Calendário de eventos;\n– Teaser de games;\n– Novidades. \nDurante eventos escoteiros\, você poderá fazer seu check-in online e ainda usufruir de um ambiente que reunirá todas as informações relevantes para os participantes. \nMais informações sobre a Jornada do Amanhã\nQuando?\n9 de dezembro de 2021 (quarta-feira).\nDas 19h às 21h. \nOnde?\nOnline\, via YouTube.\nLink privado será enviado aos inscritos por e-mail. \nQuem pode participar?\nEscotistas e Dirigentes da Região Escoteira de São Paulo. \nComo se inscrever?\nVia plataforma Lets.events. Clique aqui para realizar sua inscrição. \nQuanto?\nR$ 21\,00 (vinte e um reais). \nPrograma Previsto\n– Tecnologia e Educação: um panorama global da educação digital.\n– Inovação e tecnologia no Escotismo: o que a Região Escoteira de São Paulo traz para seus associados.\n– Gamificação no Escotismo: um jogo de longa história\n– Gamificação 2.0: práticas de gamificação no Escotismo. \nMais Informações\nEscritório Regional de São Paulo dos Escoteiros do Brasil – Desenvolvimento Institucional\nE-mail: desenvolve@escoteirossp.org.br\nTel.: (11) 3154-5500 – ramal 5 \nJornada do Amanhã
URL:https://www.escoteirossp.org.br/evento/jornada-do-amanha/
LOCATION:Online
CATEGORIES:Dirigente,Encontro,Online
ATTACH;FMTTYPE=image/jpeg:https://www.escoteirossp.org.br/wp/wp-content/uploads/2020/11/WhatsApp-Image-2020-11-27-at-17.22.03.jpeg
END:VEVENT
END:VCALENDAR