BEGIN:VCALENDAR
VERSION:2.0
PRODID:-//Escoteiros SP - ECPv6.15.20//NONSGML v1.0//EN
CALSCALE:GREGORIAN
METHOD:PUBLISH
X-WR-CALNAME:Escoteiros SP
X-ORIGINAL-URL:https://www.escoteirossp.org.br
X-WR-CALDESC:Eventos para Escoteiros SP
REFRESH-INTERVAL;VALUE=DURATION:PT1H
X-Robots-Tag:noindex
X-PUBLISHED-TTL:PT1H
BEGIN:VTIMEZONE
TZID:America/Sao_Paulo
BEGIN:STANDARD
TZOFFSETFROM:-0300
TZOFFSETTO:-0300
TZNAME:-03
DTSTART:20210101T000000
END:STANDARD
END:VTIMEZONE
BEGIN:VEVENT
DTSTART;VALUE=DATE:20220903
DTEND;VALUE=DATE:20220905
DTSTAMP:20260423T212259
CREATED:20220812T153708Z
LAST-MODIFIED:20220812T153708Z
UID:39271-1662163200-1662335999@www.escoteirossp.org.br
SUMMARY:MAPEAR
DESCRIPTION:O que é o evento?\nOs voluntários ao cursarem o MAPEAR terão a oportunidade de desenvolver\ncompetências de aplicação do Programa Educativo utilizando o Marco Simbólico\nde cada um dos 4 ramos associado à temática da modalidade do ar\, ou seja\, a\ntecnologia e conhecimentos aeroespaciais associados ao Sonho de Voar. Com o\nMAPEAR\, espera-se que os escotistas consigam temperar suas atividades de\nsede com o fascínio aeroespacial\, motivando ao escotismo\, dessa forma\, jovens\nque possuam interesses além do básico campismo e artes mateiras. \nQuando?\nDas 09h do dia 03 de setembro (sábado) às 17h do dia 04 de\nsetembro de 2022 (domingo). \nDiretor do Curso\nCNGA-2/CNGPE-1 Larissa Lemes Avari \nOnde?\nCentro Escoteiro Jaraguá\nR. Adriano Reys\, 1 – Vila Jaraguá\, São Paulo – SP \n• O pernoite será realizado em regime de acantonamento.\n• O local do evento possui estacionamento gratuito\, com capacidade suficiente para\nquantidade prevista de cursantes. \nComo se inscrever?\nExclusivamente via Meu PAXTU\, na área de eventos\, das 0h do dia 13 de\nagosto até às 23h59 do dia 16 de agosto de 2022\, ou até serem contempladas todas as vagas. \nIMPORTANTE: Para completar sua inscrição\, enviar cópia do certificado de Nível Preliminar\,\nBásico ou Avançado e da indicação do seu Assessor Pessoal de Formação (APF) para os\ne-mails adultos.sp@escoteiros.org.br e eventos.sp@escoteiros.org.br\, colocando no assunto\ndo email: MAPEAR 2022 \nConfira todas as informações no boletim:\nBoletim \nMAPEAR
URL:https://www.escoteirossp.org.br/evento/mapear/
LOCATION:Centro Escoteiro Jaraguá (CEJ)\, R. Adriano Reys\, 1\, Vila Jaraguá\, São Paulo\, São Paulo\, Brasil
CATEGORIES:Cursos,Modalidade do Ar
ATTACH;FMTTYPE=image/png:https://www.escoteirossp.org.br/wp/wp-content/uploads/2022/08/Prancheta-1.png
END:VEVENT
END:VCALENDAR