BEGIN:VCALENDAR
VERSION:2.0
PRODID:-//Escoteiros SP - ECPv6.15.20//NONSGML v1.0//EN
CALSCALE:GREGORIAN
METHOD:PUBLISH
X-WR-CALNAME:Escoteiros SP
X-ORIGINAL-URL:https://www.escoteirossp.org.br
X-WR-CALDESC:Eventos para Escoteiros SP
REFRESH-INTERVAL;VALUE=DURATION:PT1H
X-Robots-Tag:noindex
X-PUBLISHED-TTL:PT1H
BEGIN:VTIMEZONE
TZID:America/Sao_Paulo
BEGIN:STANDARD
TZOFFSETFROM:-0300
TZOFFSETTO:-0300
TZNAME:-03
DTSTART:20230101T000000
END:STANDARD
END:VTIMEZONE
BEGIN:VEVENT
DTSTART;TZID=America/Sao_Paulo:20240316T100000
DTEND;TZID=America/Sao_Paulo:20240317T100000
DTSTAMP:20260423T211728
CREATED:20240227T150523Z
LAST-MODIFIED:20240311T175544Z
UID:43975-1710583200-1710669600@www.escoteirossp.org.br
SUMMARY:Missão Sênior: Operação 24 Horas
DESCRIPTION:O que é o evento\nO Missão Sênior: Operação 24 horas é uma atividade online e descentralizada\, ou seja\, cada Unidade Escoteira Local (UEL) poderá realizar as atividades em sede ou no local escolhido pela UEL\, desde que tenha acesso à internet. Essa atividade tem por objetivo promover a integração\, intercâmbio e confraternização de seniores/guias e escotistas\, incentivando o desenvolvimento da cidadania dos jovens\, na busca de conhecimentos gerais\, e estimulando\, ainda\, a cooperação entre os elementos da patrulha. Tem a finalidade de promover atividades diversificadas na prática do Escotismo\, cooperando como instrumento do programa educativo através das redes sociais\, tão utilizadas pelos jovens. \nQuando\nNos dias 16 e 17 de Março de 2024\, com início às 10 horas da manhã do dia 16 de março e término às 10 horas da manhã do dia 17 de maço. \nQuem pode se inscrever \nPoderão participar do Missão Sênior: Operação 24 horas os jovens com registro escoteiro válido\, como membro de Tropa Sênior/Guia\, incluindo também os jovens que estiverem em período de transição. \nOs jovens deverão participar organizados por grupo\, acompanhados por um Escotista responsável durante toda a realização da atividade. Caso a atividade ocorra fora da sede da Unidade Escoteira Local (UEL)\, os jovens participantes deverão apresentar autorização devidamente assinada pelos seus responsáveis legais e pela Diretoria da UEL. \n  \nConfira todas as informações no boletim: \nBoletim\n \nBoletim 2 \nMissão Sênior: Operação 24 Horas
URL:https://www.escoteirossp.org.br/evento/missao-senior-operacao-24-horas/
ATTACH;FMTTYPE=image/png:https://www.escoteirossp.org.br/wp/wp-content/uploads/2024/02/Design-sem-nome.png
ORGANIZER;CN="Coordena%C3%A7%C3%A3o Regional do Ramo S%C3%AAnior":MAILTO:ramosenior.sp@escoteiros.org.br
END:VEVENT
END:VCALENDAR