BEGIN:VCALENDAR
VERSION:2.0
PRODID:-//Escoteiros SP - ECPv6.15.20//NONSGML v1.0//EN
CALSCALE:GREGORIAN
METHOD:PUBLISH
X-WR-CALNAME:Escoteiros SP
X-ORIGINAL-URL:https://www.escoteirossp.org.br
X-WR-CALDESC:Eventos para Escoteiros SP
REFRESH-INTERVAL;VALUE=DURATION:PT1H
X-Robots-Tag:noindex
X-PUBLISHED-TTL:PT1H
BEGIN:VTIMEZONE
TZID:America/Sao_Paulo
BEGIN:STANDARD
TZOFFSETFROM:-0300
TZOFFSETTO:-0300
TZNAME:-03
DTSTART:20200101T000000
END:STANDARD
END:VTIMEZONE
BEGIN:VEVENT
DTSTART;VALUE=DATE:20211001
DTEND;VALUE=DATE:20211102
DTSTAMP:20260423T164222
CREATED:20210708T200340Z
LAST-MODIFIED:20210708T200340Z
UID:35977-1633046400-1635811199@www.escoteirossp.org.br
SUMMARY:Módulo de Aperfeiçoamento: Assessor Pessoal de Formação
DESCRIPTION:O que é o evento?\nO Módulo de Aperfeiçoamento de Assessor Pessoal de Formação (APF) traz informações úteis ao adulto que acompanha o desenvolvimento de outro voluntário\, levando em conta o desenvolvimento de um plano pessoal de\nformação\, a realização de tarefas e a avaliação individual. \nO porquê do evento?\nA atividade atende ao previsto nos objetivos do Plano Estratégico Regional Escoteiro\, item 1.4.4 e os Indicadores Brasileiros para os Objetivos de Desenvolvimento Sustentável\, item 4. \nQuando?\nDe 01 de outubro de 2021 à 01 de novembro de 2021 \nOnde?\nOn-line\nwww.escoteirosead.org.br \nQuem pode participar?\nEscotistas e Dirigentes. \nComo se inscrever?\nExclusivamente via Meu PAXTU\, na área de Eventos\, da 00h do 09 de julho de 2021 até às 23h59 do 01 de setembro de 2021\, ou até serem contempladas todas as vagas. \nLimite de vagas\n200 vagas. \nQuanto?\nEvento Gratuito.  \n  \nConfira o boletim completo:\nBoletim \n  \nMódulo de Aperfeiçoamento: Assessor Pessoal de Formação
URL:https://www.escoteirossp.org.br/evento/modulo-de-aperfeicoamento-assessor-pessoal-de-formacao/
LOCATION:Online
CATEGORIES:Dirigente,EAD,Escotista,Online
ATTACH;FMTTYPE=image/jpeg:https://www.escoteirossp.org.br/wp/wp-content/uploads/2021/02/essed-2019-jaragua-78-1536x1024-1.jpg
END:VEVENT
END:VCALENDAR