BEGIN:VCALENDAR
VERSION:2.0
PRODID:-//Escoteiros SP - ECPv6.15.20//NONSGML v1.0//EN
CALSCALE:GREGORIAN
METHOD:PUBLISH
X-WR-CALNAME:Escoteiros SP
X-ORIGINAL-URL:https://www.escoteirossp.org.br
X-WR-CALDESC:Eventos para Escoteiros SP
REFRESH-INTERVAL;VALUE=DURATION:PT1H
X-Robots-Tag:noindex
X-PUBLISHED-TTL:PT1H
BEGIN:VTIMEZONE
TZID:America/Sao_Paulo
BEGIN:STANDARD
TZOFFSETFROM:-0300
TZOFFSETTO:-0300
TZNAME:-03
DTSTART:20200101T000000
END:STANDARD
END:VTIMEZONE
BEGIN:VEVENT
DTSTART;VALUE=DATE:20210508
DTEND;VALUE=DATE:20210609
DTSTAMP:20260423T180333
CREATED:20210427T171836Z
LAST-MODIFIED:20210427T171836Z
UID:34969-1620432000-1623196799@www.escoteirossp.org.br
SUMMARY:Módulo de Aperfeiçoamento de Assessor Pessoal de Formação (APF)
DESCRIPTION:O Módulo de Aperfeiçoamento de Assessor Pessoal de Formação (APF) traz informações úteis ao adulto que acompanha o desenvolvimento de outro voluntário\, levando em conta o desenvolvimento de um plano pessoal de formação\, a realização de tarefas e a avaliação individual. \n? Quem pode participar?\nEscotistas e Dirigentes\, com registro escoteiro válido. \n? Quando?\nDe 8 de maio a 8 de junho de 2021. \n? Onde?\nEnsino a Distância (EAD)\, online. \nBasta que tenha um computador\, tablet ou celular com conexão à internet. \nProcure usar o computador para realizar as tarefas e jogos\, pois o celular dificulta a sua execução. \n? Quanto?\nGratuito. \n? Como se inscrever?\nExclusivamente via MEU PAXTU\, área de Eventos\, da 0h do dia 26 de abril até as 23h59min do dia 03 de maio de 2021\, ou até serem preenchidas todas as vagas. \n200 (duzentas) vagas \n? Conteúdo Programático \nConteúdo: \n\n\n\nPRIMEIROS PASSOS\nAMBIENTAÇÃO\nPOLÍTICA NACIONAL DE ADULTOS\nPERFIL DO APF\nPRÁTICA DO APF\nPROCESSO DE AVALIAÇÃO\nAVALIAÇÃO DO CURSO\n\n\n\nO curso contará com o acompanhamento de Tutores que irão auxiliar os cursantes dentro da plataforma EAD. \nSó será emitido certificado de participação para aqueles que concluírem 100% do conteúdo proposto. \n  \n\n\n\n\n  ?Diretora do curso\nJaquilene de Lima Luz\nCoordenadora pedagógica\, especialista em designer instrucional\, com formação\, também\, em Letras.\nAtual Coordenadora Regional de Suporte em EAD dos Escoteiros do Brasil\, além de atuar como formadora\, escotista e dirigente no nível Local.\n\n ? Mais Informações\n\n\n\n\nEscritório Regional de São Paulo dos Escoteiros do Brasil – Eventos \nE-mail: eventos@escoteirossp.org.br \n\n\n\n\nMódulo de Aperfeiçoamento de Assessor Pessoal de Formação (APF)
URL:https://www.escoteirossp.org.br/evento/modulo-de-aperfeicoamento-de-assessor-pessoal-de-formacao-apf-2/
LOCATION:Online
CATEGORIES:EAD,Formação
ATTACH;FMTTYPE=image/jpeg:https://www.escoteirossp.org.br/wp/wp-content/uploads/2021/01/DSC_3918-scaled.jpg
END:VEVENT
END:VCALENDAR