BEGIN:VCALENDAR
VERSION:2.0
PRODID:-//Escoteiros SP - ECPv6.15.20//NONSGML v1.0//EN
CALSCALE:GREGORIAN
METHOD:PUBLISH
X-WR-CALNAME:Escoteiros SP
X-ORIGINAL-URL:https://www.escoteirossp.org.br
X-WR-CALDESC:Eventos para Escoteiros SP
REFRESH-INTERVAL;VALUE=DURATION:PT1H
X-Robots-Tag:noindex
X-PUBLISHED-TTL:PT1H
BEGIN:VTIMEZONE
TZID:America/Sao_Paulo
BEGIN:STANDARD
TZOFFSETFROM:-0300
TZOFFSETTO:-0300
TZNAME:-03
DTSTART:20200101T000000
END:STANDARD
END:VTIMEZONE
BEGIN:VEVENT
DTSTART;VALUE=DATE:20210308
DTEND;VALUE=DATE:20210409
DTSTAMP:20260423T194134
CREATED:20210222T182249Z
LAST-MODIFIED:20210223T181738Z
UID:34098-1615161600-1617926399@www.escoteirossp.org.br
SUMMARY:Módulo de Aperfeiçoamento de Assessor Pessoal de Formação (APF)
DESCRIPTION:O Módulo de Aperfeiçoamento de Assessor Pessoal de Formação (APF) traz informações úteis ao adulto que acompanha o desenvolvimento de outro voluntário\, levando em conta o desenvolvimento de um plano pessoal de formação\, a realização de tarefas e a avaliação individual. \n? Quem pode participar?\nEscotistas e Dirigentes\, com registro escoteiro válido. \n? Quando?\nDe 8 de março a 8 de abril de 2021. \n? Onde?\nEnsino a Distância (EAD)\, online. \nBasta que tenha um computador\, tablet ou celular com conexão à internet. \nProcure usar o computador para realizar as tarefas e jogos\, pois o celular dificulta a sua execução. \n? Quanto?\nGratuito. \n? Como se inscrever?\nExclusivamente via MEU PAXTU\, área de Eventos\, das 0h do dia 23 de fevereiro até as 23h59 do dia 02 de março de 2021\, ou até serem preenchidas todas as vagas. \n200 (duzentas) vagas \n? Conteúdo Programático\nAmbientação \nTranstornos de Comportamento \nAbusos: Emocional\, físico e sexual \nPrevenção ao Suicídio \nDiversidade e Inclusão \nNesta capacitação não haverá tutores\, sendo de autoaprendizado. Somente haverá um tutor disponível para esclarecer dúvidas gerais dos cursantes. \nSó será emitido certificado de participação para aqueles que concluírem 100% do conteúdo proposto. \n? Mais Informações\nEscritório Regional de São Paulo dos Escoteiros do Brasil – Gestão de Adultos \nE-mail: gestaoadultos@escoteirossp.org.br \nMódulo de Aperfeiçoamento de Assessor Pessoal de Formação (APF)
URL:https://www.escoteirossp.org.br/evento/modulo-de-aperfeicoamento-de-assessor-pessoal-de-formacao-apf/
LOCATION:Online
CATEGORIES:EAD,Formação
ATTACH;FMTTYPE=image/jpeg:https://www.escoteirossp.org.br/wp/wp-content/uploads/2021/02/essed-2019-jaragua-39-1536x1024-1.jpg
END:VEVENT
END:VCALENDAR