BEGIN:VCALENDAR
VERSION:2.0
PRODID:-//Escoteiros SP - ECPv6.15.20//NONSGML v1.0//EN
CALSCALE:GREGORIAN
METHOD:PUBLISH
X-WR-CALNAME:Escoteiros SP
X-ORIGINAL-URL:https://www.escoteirossp.org.br
X-WR-CALDESC:Eventos para Escoteiros SP
REFRESH-INTERVAL;VALUE=DURATION:PT1H
X-Robots-Tag:noindex
X-PUBLISHED-TTL:PT1H
BEGIN:VTIMEZONE
TZID:America/Sao_Paulo
BEGIN:STANDARD
TZOFFSETFROM:-0300
TZOFFSETTO:-0300
TZNAME:-03
DTSTART:20200101T000000
END:STANDARD
END:VTIMEZONE
BEGIN:VEVENT
DTSTART;VALUE=DATE:20210901
DTEND;VALUE=DATE:20211002
DTSTAMP:20260423T162000
CREATED:20210615T192451Z
LAST-MODIFIED:20210615T192451Z
UID:35698-1630454400-1633132799@www.escoteirossp.org.br
SUMMARY:Módulo de Aperfeiçoamento: EAD Saúde Mental
DESCRIPTION:O que é o evento?\nO Módulo de Aperfeiçoamento – Saúde Mental traz informações sobre aprendizagem e desenvolvimento pessoal sobre como lidar com transtornos de comportamento\, abusos físicos e emocionais\, diversidade e inclusão\, etc. \nO porquê do evento?\nA atividade atende ao previsto nos objetivos do Plano Estratégico Regional Escoteiro\, item 1.4.4 e os Indicadores Brasileiros para os Objetivos de Desenvolvimento Sustentável\, item 4. \nQuando?\nDe 01 de setembro de 2021 a 01 de outubro de 2021. \nOnde?\nOn-line\nwww.escoteirosead.org.br \nQuem pode participar?\nEscotistas e Dirigentes. \nComo se inscrever?\nExclusivamente via Meu PAXTU\, na área de Eventos\, da 00h do 16 de junho de 2021 até às 23h59 do 02 de agosto de 2021\, ou até serem contempladas todas as vagas. \nLimite de vagas\n200 vagas. \nQuanto?\nEvento gratuito. \n  \nTodas informações no boletim completo: \nBoletim \n  \n  \nMódulo de Aperfeiçoamento: EAD Saúde Mental
URL:https://www.escoteirossp.org.br/evento/modulo-de-aperfeicoamento-ead-saude-mental-2/
LOCATION:Online
CATEGORIES:Cursos,EAD,Formação
ATTACH;FMTTYPE=image/jpeg:https://www.escoteirossp.org.br/wp/wp-content/uploads/2021/02/cultive-se-284.jpg
ORGANIZER;CN="Coordena%C3%A7%C3%A3o Regional de Gest%C3%A3o da Forma%C3%A7%C3%A3o":MAILTO:formacao@escoteirossp.org.br
END:VEVENT
END:VCALENDAR