BEGIN:VCALENDAR
VERSION:2.0
PRODID:-//Escoteiros SP - ECPv6.15.20//NONSGML v1.0//EN
CALSCALE:GREGORIAN
METHOD:PUBLISH
X-WR-CALNAME:Escoteiros SP
X-ORIGINAL-URL:https://www.escoteirossp.org.br
X-WR-CALDESC:Eventos para Escoteiros SP
REFRESH-INTERVAL;VALUE=DURATION:PT1H
X-Robots-Tag:noindex
X-PUBLISHED-TTL:PT1H
BEGIN:VTIMEZONE
TZID:America/Sao_Paulo
BEGIN:STANDARD
TZOFFSETFROM:-0200
TZOFFSETTO:-0300
TZNAME:-03
DTSTART:20190217T020000
END:STANDARD
END:VTIMEZONE
BEGIN:VEVENT
DTSTART;VALUE=DATE:20201116
DTEND;VALUE=DATE:20201202
DTSTAMP:20260423T175409
CREATED:20201109T195346Z
LAST-MODIFIED:20201111T190357Z
UID:31847-1605484800-1606867199@www.escoteirossp.org.br
SUMMARY:Módulo de Aperfeiçoamento: Saúde Mental
DESCRIPTION:O Módulo de Aperfeiçoamento – Saúde Mental traz informações sobre  aprendizagem e desenvolvimento pessoal e sobre como lidar com transtornos de comportamento\, abusos físicos e emocionais\, diversidade e inclusão\, etc.  \n? Quem pode participar? \nEscotistas e Dirigentes\, com registro escoteiro válido. \n? Quando? \nDe 16 de novembro a 1º de dezembro de 2020. \n? Onde? \nEnsino a Distância (EAD)\, online. \nBasta que tenha um computador\, tablet ou celular com conexão à internet. \nProcure usar o computador para realizar as tarefas e jogos\, pois o celular dificulta a sua execução. \n? Quanto? \nGratuito. \n? Como se inscrever? \nExclusivamente via MEU PAXTU\, área de Eventos\, das 0h do dia 10 de novembro até as 23h59 do dia 13 de novembro de 2020\, ou até serem completadas todas as vagas. \n300 (trezentas) vagas \n? Conteúdo Programático \nAmbientação \nTranstornos de Comportamento \nAbusos: Emocional\, físico e sexual \nPrevenção ao Suicídio \nDiversidade e Inclusão \nNesta capacitação não haverá tutores\, sendo de autoaprendizado. Somente haverá um tutor disponível para esclarecer dúvidas gerais dos cursantes.  \nSó será emitido certificado de participação para aqueles que concluírem 100% do conteúdo proposto.  \n \n? Mais Informações \nEscritório Regional de São Paulo dos Escoteiros do Brasil – Gestão de Adultos \nE-mail: gestaoadultos@escoteirossp.org.br \n\n\n\n\nMódulo de Aperfeiçoamento: Saúde Mental
URL:https://www.escoteirossp.org.br/evento/modulo-de-aperfeicoamento-saude-mental/
LOCATION:Online
CATEGORIES:Dirigente,EAD,Escotista,Formação,Online
ATTACH;FMTTYPE=image/jpeg:https://www.escoteirossp.org.br/wp/wp-content/uploads/2020/11/essed-2019-jaragua-78-scaled.jpg
END:VEVENT
END:VCALENDAR