BEGIN:VCALENDAR
VERSION:2.0
PRODID:-//Escoteiros SP - ECPv6.15.20//NONSGML v1.0//EN
CALSCALE:GREGORIAN
METHOD:PUBLISH
X-WR-CALNAME:Escoteiros SP
X-ORIGINAL-URL:https://www.escoteirossp.org.br
X-WR-CALDESC:Eventos para Escoteiros SP
REFRESH-INTERVAL;VALUE=DURATION:PT1H
X-Robots-Tag:noindex
X-PUBLISHED-TTL:PT1H
BEGIN:VTIMEZONE
TZID:America/Sao_Paulo
BEGIN:STANDARD
TZOFFSETFROM:-0200
TZOFFSETTO:-0300
TZNAME:-03
DTSTART:20190217T020000
END:STANDARD
END:VTIMEZONE
BEGIN:VEVENT
DTSTART;VALUE=DATE:20200622
DTEND;VALUE=DATE:20200723
DTSTAMP:20260423T180427
CREATED:20200611T200954Z
LAST-MODIFIED:20200703T211139Z
UID:27748-1592784000-1595462399@www.escoteirossp.org.br
SUMMARY:Módulo de Aperfeiçoamento: Teoria de Primeiros Socorros
DESCRIPTION:Em virtude da suspensão das iniciativas formativas presenciais por conta da pandemia do COVID-19\, adaptamos mais uma capacitação para o formato EAD! \nQuem pode participar?\nPioneiros\, Escotistas e Dirigentes\, com registro escoteiro válido.  \nQuando?\nDe 22 de junho a 22 de julho de 2020. \nOnde?\nEnsino a Distância (EAD)\, online. \nNecessário ter computador\, tablet ou celular com conexão à internet para participar desta iniciativa formativa. \nAs chaves de acesso para acesso à plataforma de formação EAD serão enviadas aos inscritos entre os dias 20 e 21 de junho de 2020. \n\n\nQuanto?\nGratuito. \nComo se inscrever?\nExclusivamente via MEU PAXTU\, área de Eventos\, das 0h do dia 15 de junho até as 23h59 do dia 19 de junho de 2020\, ou até serem completadas todas as vagas. \nLimite de 200 (duzentas) vagas. \nConteúdo Programático\n– Dor e Traumas \n– Condições Clínicas \n– Clássicos dos Acampamentos/Atividades \n– Risco Imediato à Vida \nDireção do curso\nJaquilene Luz\nMais Informações\nEscritório Regional de São Paulo dos Escoteiros do Brasil – Gestão de Adultos \nE-mail: gestaoadultos@escoteirossp.org.br \n\nMódulo de Aperfeiçoamento: Teoria de Primeiros Socorros
URL:https://www.escoteirossp.org.br/evento/modulo-de-aperfeicoamento-teoria-de-primeiros-socorros-2/
LOCATION:Online
CATEGORIES:EAD,Formação
ATTACH;FMTTYPE=image/jpeg:https://www.escoteirossp.org.br/wp/wp-content/uploads/2019/02/essed-2019-jaragua-43.jpg
END:VEVENT
END:VCALENDAR