BEGIN:VCALENDAR
VERSION:2.0
PRODID:-//Escoteiros SP - ECPv6.15.20//NONSGML v1.0//EN
CALSCALE:GREGORIAN
METHOD:PUBLISH
X-WR-CALNAME:Escoteiros SP
X-ORIGINAL-URL:https://www.escoteirossp.org.br
X-WR-CALDESC:Eventos para Escoteiros SP
REFRESH-INTERVAL;VALUE=DURATION:PT1H
X-Robots-Tag:noindex
X-PUBLISHED-TTL:PT1H
BEGIN:VTIMEZONE
TZID:America/Sao_Paulo
BEGIN:STANDARD
TZOFFSETFROM:-0200
TZOFFSETTO:-0300
TZNAME:-03
DTSTART:20190217T020000
END:STANDARD
END:VTIMEZONE
BEGIN:VEVENT
DTSTART;VALUE=DATE:20200901
DTEND;VALUE=DATE:20201001
DTSTAMP:20260423T135446
CREATED:20200821T182228Z
LAST-MODIFIED:20200828T180202Z
UID:29639-1598918400-1601510399@www.escoteirossp.org.br
SUMMARY:Módulo de Aperfeiçoamento: Teoria de Primeiros Socorros
DESCRIPTION:Visando estimular o interesse pelo assunto\, este módulo irá proporcionar noções básicas sobre Primeiros Socorros. O conteúdo teórico apresentado inclui clássicos dos acampamentos\, orientando escotistas e dirigentes em situações típicas destas atividades.\n\nNesta capacitação não haverá tutores\, sendo de auto aprendizado através do conteúdo oferecido. \n? Quem pode participar? \nPioneiros\, Escotistas e Dirigentes\, com registro escoteiro válido. \n? Quando? \nEntre os dias 01/09/2020 e 30/09/2020.  \n? Onde? \nEnsino a Distância (EAD)\, online. \nBasta que tenha um computador\, tablet ou celular com conexão à internet. \nAs chaves de acesso para a plataforma EAD onde será realizada a iniciativa formativa serão enviadas aos emails dos inscritos entre os dias 29 e 31/08/2020. \n\n? Quanto? \nGratuito. \n? Como se inscrever?\n \nExclusivamente via MEU PAXTU\, na área de Eventos\, das 0h do dia 25 de agosto até às 23h59 do dia 28 de agosto de 2020\, ou até serem completadas todas as vagas. \nLimite de 300 (trezentas) vagas  \n? Conteúdo Programático\n \n– Dor e Traumas \n– Condições Clínicas \n– Clássicos dos Acampamentos/Atividades \n– Risco Imediato à Vida \nSó será emitido certificado de participação para aqueles que concluírem 100% do conteúdo proposto.  \n? Diretor (a) da iniciativa formativa\n \nJaqueline de Lima Luz \nCoordenadora pedagógica\, especialista em designer instrucional\, com formação em Letras e Pedagogia. \nAtual Coordenadora Regional e Nacional de Suporte em EAD dos Escoteiros do Brasil\, além de formadora e escotista e dirigente em nível Local. \n? Mais Informações\n \nEscritório Regional de São Paulo dos Escoteiros do Brasil – Gestão de Adultos \nE-mail: gestaoadultos@escoteirossp.org.br  \n  \nMódulo de Aperfeiçoamento: Teoria de Primeiros Socorros
URL:https://www.escoteirossp.org.br/evento/modulo-de-aperfeicoamento-teoria-de-primeiros-socorros-3/
LOCATION:Online
CATEGORIES:EAD,Escotista,Formação,Online
ATTACH;FMTTYPE=image/jpeg:https://www.escoteirossp.org.br/wp/wp-content/uploads/2020/08/20190817082649_IMG_7573.jpg
END:VEVENT
END:VCALENDAR