BEGIN:VCALENDAR
VERSION:2.0
PRODID:-//Escoteiros SP - ECPv6.15.20//NONSGML v1.0//EN
CALSCALE:GREGORIAN
METHOD:PUBLISH
X-WR-CALNAME:Escoteiros SP
X-ORIGINAL-URL:https://www.escoteirossp.org.br
X-WR-CALDESC:Eventos para Escoteiros SP
REFRESH-INTERVAL;VALUE=DURATION:PT1H
X-Robots-Tag:noindex
X-PUBLISHED-TTL:PT1H
BEGIN:VTIMEZONE
TZID:America/Sao_Paulo
BEGIN:STANDARD
TZOFFSETFROM:-0300
TZOFFSETTO:-0300
TZNAME:-03
DTSTART:20210101T000000
END:STANDARD
END:VTIMEZONE
BEGIN:VEVENT
DTSTART;VALUE=DATE:20220228
DTEND;VALUE=DATE:20220401
DTSTAMP:20260423T150359
CREATED:20211125T173951Z
LAST-MODIFIED:20211125T173951Z
UID:37192-1646006400-1648771199@www.escoteirossp.org.br
SUMMARY:Módulo de Aperfeiçoamento: Teoria de Primeiros Socorros
DESCRIPTION:O que é o evento?\nVisando estimular o interesse pelo assunto\, este módulo irá proporcionar noções básicas sobre Primeiros\nSocorros. O conteúdo teórico apresentado inclui clássicos dos acampamentos\, orientando escotistas e\ndirigentes em situações típicas dessas atividades. \nO porquê do evento?\nA atividade atende ao previsto nos objetivos do Plano Estratégico Regional Escoteiro\, item 1.4.4 e os\nIndicadores Brasileiros para os Objetivos de Desenvolvimento Sustentável\, item 4. \nQuando?\nDe 28 de fevereiro de 2022 a 31 de março de 2022. \nOnde?\nOn-line\nwww.escoteirosead.org.br \nQuem pode participar?\nEscotistas e dirigentes. \nLimite de vagas\n200 (duzentas) vagas. \nQuanto?\nEvento Gratuito. \nComo se inscrever?\nExclusivamente via Meu PAXTU\, na área de Eventos\, da 00h do 26 de novembro de 2021 até às 23h59 do 17 de janeiro de 2022\, ou até serem contempladas todas as vagas. \n  \nConfira as informações completas abaixo: \nBoletim \nMódulo de Aperfeiçoamento: Teoria de Primeiros Socorros
URL:https://www.escoteirossp.org.br/evento/modulo-de-aperfeicoamento-teoria-de-primeiros-socorros-6/
LOCATION:Online
CATEGORIES:Formação
ATTACH;FMTTYPE=image/jpeg:https://www.escoteirossp.org.br/wp/wp-content/uploads/2020/08/20190817082649_IMG_7573.jpg
END:VEVENT
END:VCALENDAR