BEGIN:VCALENDAR
VERSION:2.0
PRODID:-//Escoteiros SP - ECPv6.15.20//NONSGML v1.0//EN
CALSCALE:GREGORIAN
METHOD:PUBLISH
X-WR-CALNAME:Escoteiros SP
X-ORIGINAL-URL:https://www.escoteirossp.org.br
X-WR-CALDESC:Eventos para Escoteiros SP
REFRESH-INTERVAL;VALUE=DURATION:PT1H
X-Robots-Tag:noindex
X-PUBLISHED-TTL:PT1H
BEGIN:VTIMEZONE
TZID:America/Sao_Paulo
BEGIN:STANDARD
TZOFFSETFROM:-0200
TZOFFSETTO:-0300
TZNAME:-03
DTSTART:20190217T020000
END:STANDARD
END:VTIMEZONE
BEGIN:VEVENT
DTSTART;VALUE=DATE:20201016
DTEND;VALUE=DATE:20201102
DTSTAMP:20260423T175128
CREATED:20201008T192642Z
LAST-MODIFIED:20201008T192642Z
UID:31147-1602806400-1604275199@www.escoteirossp.org.br
SUMMARY:Módulos de Aperfeiçoamento: Ciclo de Programa
DESCRIPTION:A Coordenação Regional de Gestão da Formação de São Paulo dos Escoteiros do Brasil convida os escotistas a participarem dos Módulos de Aperfeiçoamento sobre Ciclo de Programa! \nEsses módulos objetivam contribuir com o desenvolvimento e compreensão dos Ciclos de Programa de cada Ramo (Lobinho/Escoteiro/Sênior/Pioneiro). \n? Quem pode participar? \nEscotistas\, com registro escoteiro válido e recomendação de seu Assessor Pessoal de Formação. \n? Quando? \nDe 16 de outubro a 1º de novembro 2020. \n? Onde? \nEnsino a Distância (EAD)\, online. \nBasta que tenha um computador\, tablet ou celular com conexão à internet. \nProcure usar o computador para realizar as tarefas e jogos\, pois o celular dificulta a sua execução.\n \n? Quanto? \nGratuito. \n? Como se inscrever? \nExclusivamente via MEU PAXTU\, área de Eventos\, das 0h do dia 9 de outubro até as 23h59 do dia 12 de outubro de 2020\, ou até serem completadas todas as vagas. \n200 (duzentas) vagas por Ramo \n? Conteúdo Programático \nCICLO DE PROGRAMA DO RAMO LOBINHO \n• Ambientação\n• Ciclo de programa – introdução\n• O que é ciclo de programa?\n• Ciclo de programa do Ramo Lobinho\n• Fases de um ciclo de programa\n• Vantagens do ciclo de programa\n• Jogos democráticos \nCICLO DE PROGRAMA DO RAMO ESCOTEIRO \n• Ambientação\n• Ciclo de programa – introdução\n• O que é ciclo de programa?\n• Ciclo de programa do Ramo Escoteiro\n• Fases de um ciclo de programa\n• Vantagens do ciclo de programa\n• Jogos democráticos \nCICLO DE PROGRAMA DO RAMO SÊNIOR \n• Ambientação\n• Ciclo de programa – introdução\n• O que é ciclo de programa?\n• Ciclo de programa do Ramo Sênior\n• Fases de um ciclo de programa\n• Vantagens do ciclo de programa\n• Jogos democráticos \nCICLO DE PROGRAMA DO RAMO PIONEIRO \n• Ambientação\n• Ciclo de programa – introdução\n• O que é ciclo de programa?\n• Ciclo de programa do Ramo Sênior\n• Fases de um ciclo de programa\n• Características do Ciclo de programa\n• Cronograma de aplicação \nSó será emitido certificado de participação para aqueles que concluírem 100% do conteúdo proposto. \n?Diretora do curso \nJaqueline de Lima Luz\n \nCoordenadora pedagógica\, especialista em designer instrucional\, com formação em Letras e Pedagogia. \nAtual Coordenadora Regional e Nacional de Suporte em EAD dos Escoteiros do Brasil\, além de formadora e escotista e dirigente em nível Local. \n? Mais Informações \nEscritório Regional de São Paulo dos Escoteiros do Brasil – Gestão de Adultos \nE-mail: gestaoadultos@escoteirossp.org.br \nMódulos de Aperfeiçoamento: Ciclo de Programa
URL:https://www.escoteirossp.org.br/evento/modulos-de-aperfeicoamento-ciclo-de-programa/
LOCATION:Online
CATEGORIES:EAD,Formação
ATTACH;FMTTYPE=image/jpeg:https://www.escoteirossp.org.br/wp/wp-content/uploads/2020/10/AR_2019_26-scaled.jpg
END:VEVENT
END:VCALENDAR