BEGIN:VCALENDAR
VERSION:2.0
PRODID:-//Escoteiros SP - ECPv6.15.20//NONSGML v1.0//EN
CALSCALE:GREGORIAN
METHOD:PUBLISH
X-WR-CALNAME:Escoteiros SP
X-ORIGINAL-URL:https://www.escoteirossp.org.br
X-WR-CALDESC:Eventos para Escoteiros SP
REFRESH-INTERVAL;VALUE=DURATION:PT1H
X-Robots-Tag:noindex
X-PUBLISHED-TTL:PT1H
BEGIN:VTIMEZONE
TZID:America/Sao_Paulo
BEGIN:STANDARD
TZOFFSETFROM:-0300
TZOFFSETTO:-0300
TZNAME:-03
DTSTART:20210101T000000
END:STANDARD
END:VTIMEZONE
BEGIN:VEVENT
DTSTART;TZID=America/Sao_Paulo:20220821T070000
DTEND;TZID=America/Sao_Paulo:20220821T123000
DTSTAMP:20260423T212456
CREATED:20220809T160620Z
LAST-MODIFIED:20220812T134533Z
UID:39220-1661065200-1661085000@www.escoteirossp.org.br
SUMMARY:Mutirão da Catarata 2022
DESCRIPTION:Mutirão de Atendimento de Catarata 2022\nOs Escoteiros do Brasil – Região de São Paulo\, participam do Mutirão na locomoção de\npacientes com mobilidade reduzida e na distribuição de água e lanche para todos os\nparticipantes. \nO que é o evento?\nO Mutirão da Catarata é um evento que mobiliza diversos órgãos do poder público e\nprivado\, além de voluntários e diversas instituições incluindo os Escoteiros do Brasil\, para\nviabilizar a cirurgia da catarata para toda a população necessitada.\nO Evento já é realizado com muito sucesso há 19 anos\, já foram realizados mais de 70 mil\natendimentos e nesse atendimento já são feitos no mesmo dia todos os exames necessários\ne dependendo do diagnóstico\, o paciente já sai com a data da cirurgia marcada.\nJá foram realizadas aproximadamente 25 mil cirurgias! Para esse ano estão previstos\naproximadamente 3 mil atendimentos. \nObjetivo\nParticipar do mutirão de atendimento de cirurgia de catarata 2022\, exercendo nosso objetivo\nde contribuir na educação do jovem e desempenhando um papel construtivo na sociedade \nQuando? \nDia 21 de agosto de 2022 (domingo)\, das 07:00 hs às 12:30 hs. \nOnde?\nCentro Comercial Aricanduva – estacionamento do antigo Wall Mart\n(Atenção: esse ano não será no estacionamento da C&C) \nQuanto?\nEvento Gratuito \nConfira todas as informações no boletim:\nBoletim \nBoletim 2  \nMutirão da Catarata 2022
URL:https://www.escoteirossp.org.br/evento/mutirao-da-catarata-2022/
ATTACH;FMTTYPE=image/png:https://www.escoteirossp.org.br/wp/wp-content/uploads/2022/08/MUTIRAO-post-e1660003245967.png
END:VEVENT
END:VCALENDAR