BEGIN:VCALENDAR
VERSION:2.0
PRODID:-//Escoteiros SP - ECPv6.15.20//NONSGML v1.0//EN
CALSCALE:GREGORIAN
METHOD:PUBLISH
X-WR-CALNAME:Escoteiros SP
X-ORIGINAL-URL:https://www.escoteirossp.org.br
X-WR-CALDESC:Eventos para Escoteiros SP
REFRESH-INTERVAL;VALUE=DURATION:PT1H
X-Robots-Tag:noindex
X-PUBLISHED-TTL:PT1H
BEGIN:VTIMEZONE
TZID:America/Sao_Paulo
BEGIN:STANDARD
TZOFFSETFROM:-0300
TZOFFSETTO:-0300
TZNAME:-03
DTSTART:20230101T000000
END:STANDARD
END:VTIMEZONE
BEGIN:VEVENT
DTSTART;TZID=America/Sao_Paulo:20240623T070000
DTEND;TZID=America/Sao_Paulo:20240623T123000
DTSTAMP:20260424T020234
CREATED:20240608T153529Z
LAST-MODIFIED:20240608T153529Z
UID:44802-1719126000-1719145800@www.escoteirossp.org.br
SUMMARY:Mutirão da Catarata 2024
DESCRIPTION:O Mutirão da Catarata é um evento que mobiliza diversos órgãos do poder público e privado\, além de voluntários e diversas instituições incluindo os Escoteiros do Brasil\, para viabilizar a cirurgia de catarata para toda a população necessitada.\nO Evento\, que acontece com muito sucesso há 20 anos\, já proporcionou mais de 73 mil atendimentos e\, neste dia\, são feitos todos os exames necessários e\, dependendo do diagnóstico\, o paciente já sai com a data da cirurgia marcada. Já foram realizadas aproximadamente 30 mil cirurgias e\, para esse ano\, estão previstos aproximadamente 3 mil atendimentos! \nOs Escoteiros do Brasil\, tem como objetivo participar do mutirão de atendimento de cirurgia de catarata 2024\, exercendo nossa missão de contribuir com a educação do jovem e desempenhando um papel construtivo na sociedade! \nQuando\nDomingo\, 23 de junho\, das 7h às 12h30.\nDependendo do volume de atendimentos\, pode ser solicitada a ajuda após o encerramento oficial.\n \nConfira o boletim \nMutirão da Catarata 2024
URL:https://www.escoteirossp.org.br/evento/mutirao-da-catarata-2024/
LOCATION:Centro Comercial Aricanduva\, Av: Aricanduva N°5.555\, São Paulo\, São Paulo\, 03527000\, Brasil
ATTACH;FMTTYPE=image/png:https://www.escoteirossp.org.br/wp/wp-content/uploads/2024/06/bannersite.png
END:VEVENT
END:VCALENDAR