BEGIN:VCALENDAR
VERSION:2.0
PRODID:-//Escoteiros SP - ECPv6.15.20//NONSGML v1.0//EN
CALSCALE:GREGORIAN
METHOD:PUBLISH
X-WR-CALNAME:Escoteiros SP
X-ORIGINAL-URL:https://www.escoteirossp.org.br
X-WR-CALDESC:Eventos para Escoteiros SP
REFRESH-INTERVAL;VALUE=DURATION:PT1H
X-Robots-Tag:noindex
X-PUBLISHED-TTL:PT1H
BEGIN:VTIMEZONE
TZID:America/Sao_Paulo
BEGIN:STANDARD
TZOFFSETFROM:-0300
TZOFFSETTO:-0300
TZNAME:-03
DTSTART:20200101T000000
END:STANDARD
END:VTIMEZONE
BEGIN:VEVENT
DTSTART;TZID=America/Sao_Paulo:20210801T080000
DTEND;TZID=America/Sao_Paulo:20210801T170000
DTSTAMP:20260423T162208
CREATED:20210629T212722Z
LAST-MODIFIED:20210629T212722Z
UID:35862-1627804800-1627837200@www.escoteirossp.org.br
SUMMARY:O Grande Jogo de Rádio
DESCRIPTION:O que é o evento?\nO Grande Jogo de Radioescotismo tem como objetivo proporcionar a descoberta e a vivência dos jovens através de um grande jogo. Vale ressaltar que a atividade possibilita o desenvolvimento e estímulo de várias competências\, alinhadas com o Programa Educativo dos Escoteiros do Brasil. \nO porquê do evento?\nA atividade é uma oportunidade ideal para novas vivências e oportunidades de conhecimento técnico e científico\, além do fortalecimento de laços afetivos com os demais participantes\, através de atividades que estimulam a comunicação entre todos os participantes.\nA atividade atende ao previsto nos objetivos do Plano Estratégico Regional Escoteiro\, itens 1.1.2 e 1.5.2 e os\nIndicadores Brasileiros para os Objetivos de Desenvolvimento Sustentável\, itens 4 e 7. \nQuando?\n01 de agosto de 2021 – Para a participação simultânea ao envio das atividades. \nOnde?\nOn-line\, descentralizado\, através das seguintes plataformas:\n– Teams\, Zoom\, Instagram\, Whatsapp \nQuem pode participar?\nLobinhos (as)\, Escoteiros(as)\, Seniores/Guias\, Pioneiros(as) e Escotistas acompanhantes\, com registro\nescoteiro válido. \nComo se inscrever?\nO evento não conta com inscrições prévias. \n  \nSaiba mais as informações completas do Boletim: \n  \nBoletim \nO Grande Jogo de Rádio
URL:https://www.escoteirossp.org.br/evento/o-grande-jogo-de-radio/
LOCATION:Online
CATEGORIES:Radioescotismo
ATTACH;FMTTYPE=image/png:https://www.escoteirossp.org.br/wp/wp-content/uploads/2021/06/Post-_Boletim_disponivel-e1625001767237.png
ORGANIZER;CN="Coordena%C3%A7%C3%A3o Regional de Radioescotismo":MAILTO:radioescotismo.sp@escoteiros.org.br
END:VEVENT
END:VCALENDAR