BEGIN:VCALENDAR
VERSION:2.0
PRODID:-//Escoteiros SP - ECPv6.15.20//NONSGML v1.0//EN
CALSCALE:GREGORIAN
METHOD:PUBLISH
X-WR-CALNAME:Escoteiros SP
X-ORIGINAL-URL:https://www.escoteirossp.org.br
X-WR-CALDESC:Eventos para Escoteiros SP
REFRESH-INTERVAL;VALUE=DURATION:PT1H
X-Robots-Tag:noindex
X-PUBLISHED-TTL:PT1H
BEGIN:VTIMEZONE
TZID:America/Sao_Paulo
BEGIN:STANDARD
TZOFFSETFROM:-0300
TZOFFSETTO:-0300
TZNAME:-03
DTSTART:20200101T000000
END:STANDARD
END:VTIMEZONE
BEGIN:VEVENT
DTSTART;TZID=America/Sao_Paulo:20211106T100000
DTEND;TZID=America/Sao_Paulo:20211106T130000
DTSTAMP:20260423T162215
CREATED:20211015T192248Z
LAST-MODIFIED:20211015T192903Z
UID:36918-1636192800-1636203600@www.escoteirossp.org.br
SUMMARY:Oficina de Especialidade: Anime
DESCRIPTION:O que é o evento?\nOficina vai apresentar os itens da especialidade de Anime (https://www.escoteiros.org.br/especialidades/anime/)\, área de Conhecimento: Cultura\, irão receber orientações sobre como conquistar e entender os itens da especialidade. \nQuando?\n06 de novembro de 2021 (sábado). \nAbertura prevista às 10h e encerramento previsto às 13h. \nOnde?\nVirtualmente através do Google MEET. \nQuem pode participar?\nJovens (Lobinhos\, Escoteiros\, Sêniores e Guias)\, com registro escoteiro válido. \nComo se inscrever?\nExclusivamente via Meu PAXTU\, na área de Eventos\, das 0h do 22 de outubro de 2021 até às 23h59min do 31 de outubro de 2021\, ou até que sejam preenchidas todas as vagas. \nLimite de vagas\n40 (quarenta) para Jovens (Lobinhos\, Escoteiros\, Sêniores e Guias). \nFacilitador\nKaue Kato\, 27 anos\, descendente de japonês\, tive uma infância sem internet e tv cabo\, sobrando como diversão os desenhos\, entre os meu prediletos na época\, digimon\, cavaleiros do zodíaco\, tenchi muyo é claro…dragon ball\, já mais velho descobri que todos esses\, na verdade eram anime e comecei a procurar mais e estou até hoje\, meu estilo predileto é o shonen e no topo da minha lista estão HunterxHunter\, naruto\, demon slayer é o meu predileto\, fullmetal alchemist: brotherhood. Quando tive oportunidades de ir em evento\, fiz cosplay e aproveitei muito. \nFoi escoteiro\, sênior\, pioneiro e escotista no G.E. Almirante Tamandaré 46-SP e encontra-se afastado pois foi fazer faculdade em outro estado. \nRealização\nCoordenação Regional de Programa Educativo \nE-mail: programa1@escoteirossp.org.br \nDúvidas sobre inscrições do evento\nEscritório Regional de São Paulo dos Escoteiros do Brasil – Eventos \nE-mail: eventos@escoteirossp.org.br \nTel.: (11) 3154-5500 Ramal 2 \n  \n\n Informar no assunto do e-mail o nome do evento e o assunto a que se refere e no corpo do e-mail\, informar nome do evento\, tema\, nome completo\, UEL\, número do registro e telefone para contato.\n\n  \nAcompanhe as novidades do evento pelo site www.escoteirossp.org.br e pela página no Facebook Escoteiros SP. \nOficina de Especialidade: Anime
URL:https://www.escoteirossp.org.br/evento/oficina-de-especialidade-anime/
LOCATION:Online
CATEGORIES:Oficina
ATTACH;FMTTYPE=image/png:https://www.escoteirossp.org.br/wp/wp-content/uploads/2021/10/Whats-App-Oficina--e1634324953558.png
END:VEVENT
END:VCALENDAR