BEGIN:VCALENDAR
VERSION:2.0
PRODID:-//Escoteiros SP - ECPv6.15.20//NONSGML v1.0//EN
CALSCALE:GREGORIAN
METHOD:PUBLISH
X-WR-CALNAME:Escoteiros SP
X-ORIGINAL-URL:https://www.escoteirossp.org.br
X-WR-CALDESC:Eventos para Escoteiros SP
REFRESH-INTERVAL;VALUE=DURATION:PT1H
X-Robots-Tag:noindex
X-PUBLISHED-TTL:PT1H
BEGIN:VTIMEZONE
TZID:America/Sao_Paulo
BEGIN:STANDARD
TZOFFSETFROM:-0300
TZOFFSETTO:-0300
TZNAME:-03
DTSTART:20240101T000000
END:STANDARD
END:VTIMEZONE
BEGIN:VEVENT
DTSTART;TZID=America/Sao_Paulo:20250531T090000
DTEND;TZID=America/Sao_Paulo:20250531T130000
DTSTAMP:20260423T192507
CREATED:20250514T230546Z
LAST-MODIFIED:20250514T230611Z
UID:47311-1748682000-1748696400@www.escoteirossp.org.br
SUMMARY:Oficina de Especialidade - Fotografia Digital
DESCRIPTION:O que é o evento \nA Escoteiros do Brasil – SP\, promove a Oficina de especialidade de Fotografia Digital (https://www.escoteiros.org.br/especialidades/fotografia-digital/)\, oferecendo orientações\, experiências\ne práticas de 6 itens da especialidade\, que dará direito ao certificado dos itens conquistados na especialidade de Fotografia. \nQuando\n31 de maio de 2025\, abertura prevista às 9h e encerramento previsto às 13h \nOnde\nCasa do Escoteiros – Escoteiros do Brasil – Região de São Paulo\nR. Cel. Xavier de Toledo\, 316 – 3º Andar – República\, São Paulo – SP\, 01048-000\nComo chegar: https://maps.app.goo.gl/KjsPWVoTkRirtFBy5 \nQuem pode participar\nJovens (Lobinhos\, Escoteiros\, Sêniores e Guias)\, com registro escoteiro válido. \nAcompanhados do Escotista responsável com registro escoteiro válido. \nComo se inscrever\nExclusivamente via MEU PAXTU\, área de Eventos\, das 0h de 15 de maio de 2025 até às 23h59 de 29 de maio de 2025\, ou até serem preenchidas todas as vagas. \nConfira todas as informações\nBoletim – Oficina de Especialidade\n \n  \nOficina de Especialidade – Fotografia Digital
URL:https://www.escoteirossp.org.br/evento/oficina-de-especialidade-fotografia-digital/
LOCATION:Casa do Escoteiro de São Paulo “Carlos Battisti”\, Rua Coronel Xavier de Toledo\, 316\, 3º andar\, República\, São Paulo\, SP\, 01048-000\, Brasil
CATEGORIES:Oficina
ATTACH;FMTTYPE=image/png:https://www.escoteirossp.org.br/wp/wp-content/uploads/2025/05/site_oficinacomunica.png
END:VEVENT
END:VCALENDAR