BEGIN:VCALENDAR
VERSION:2.0
PRODID:-//Escoteiros SP - ECPv6.15.20//NONSGML v1.0//EN
CALSCALE:GREGORIAN
METHOD:PUBLISH
X-WR-CALNAME:Escoteiros SP
X-ORIGINAL-URL:https://www.escoteirossp.org.br
X-WR-CALDESC:Eventos para Escoteiros SP
REFRESH-INTERVAL;VALUE=DURATION:PT1H
X-Robots-Tag:noindex
X-PUBLISHED-TTL:PT1H
BEGIN:VTIMEZONE
TZID:America/Sao_Paulo
BEGIN:STANDARD
TZOFFSETFROM:-0300
TZOFFSETTO:-0300
TZNAME:-03
DTSTART:20230101T000000
END:STANDARD
END:VTIMEZONE
BEGIN:VEVENT
DTSTART;TZID=America/Sao_Paulo:20240915T080000
DTEND;TZID=America/Sao_Paulo:20240915T120000
DTSTAMP:20260424T023958
CREATED:20240810T133137Z
LAST-MODIFIED:20240821T200946Z
UID:45159-1726387200-1726401600@www.escoteirossp.org.br
SUMMARY:Oficina de Especialidades - Ornitologia
DESCRIPTION:O que é o evento\nA Escoteiros do Brasil – SP em parceria com o Centro de Estudos de Ornitologia\, promove a Oficina de Especialidade de Ornitologia (https://www.escoteiros.org.br/especialidades/ornitologia/)\, da área de conhecimento em Ciência & Tecnologia\, insígnia da Modalidade do Ar\, oferecendo orientações\, experiências e práticas de até 10 itens da especialidade\, que dará direito ao certificado dos itens conquistados na especialidade de Ornitologia. \nQuando\n15 de setembro de 2024 (domingo).\nAbertura prevista às 8h e encerramento previsto às 12h \nOnde\nCentro Escoteiro Jaraguá\nRua Adriano Reys\, 1 – Vila Jaraguá\, São Paulo – SP\, 05164-020\nComo chegar: https://maps.app.goo.gl/F7Hk2v3BM2X3m3RT6 \nQuem pode participar\nJovens (Lobinhos\, Escoteiros\, Sêniores e Guias)\, com registro escoteiro válido.\nAcompanhados do Escotista responsável com registro escoteiro válido. \nComo se inscrever\nInscrições encerradas em 21/08/2024 devido ao preenchimento total das vagas. \n  \nAcesse o boletim:\nBoletim \nOficina de Especialidades – Ornitologia
URL:https://www.escoteirossp.org.br/evento/oficina-de-especialidades-ornitologia/
LOCATION:Centro Escoteiro Jaraguá (CEJ)\, R. Adriano Reys\, 1\, Vila Jaraguá\, São Paulo\, São Paulo\, Brasil
CATEGORIES:Oficina
ATTACH;FMTTYPE=image/png:https://www.escoteirossp.org.br/wp/wp-content/uploads/2024/08/Oficina_Ornitologia_Capa.png
ORGANIZER;CN="Diretoria Regional de M%C3%A9todos Educativos":MAILTO:metodos.sp@escoteiros.org.br
END:VEVENT
END:VCALENDAR